BEGIN:VCALENDAR
VERSION:2.0
PRODID:-//ChamberMaster//Event Calendar 2.0//EN
METHOD:PUBLISH
X-PUBLISHED-TTL:P3D
REFRESH-INTERVAL:P3D
CALSCALE:GREGORIAN
BEGIN:VEVENT
DTSTART:20090416T163000Z
DTEND:20090416T180000Z
X-MICROSOFT-CDO-ALLDAYEVENT:FALSE
SUMMARY:2009 April Ambassador Lunch Meeting
DESCRIPTION:Salad of your choice\, Bread and Iced Tea Main Entree 3 choices: 1) Shrimp Cappellini Primavera - Shrimp\, Angel Hair Pasta and Vegetables tossed with Tomato Butter Sauce. 2) Eggplant Rolatini - Eggplant stuffed with Ricotta and Mozzarella topped with Marinara Sauce and served with Spaghetti. 3) Chicken Marsala - Chicken Sauteed with Mushrooms in a Marsala Wine Sauce served with Spaghetti
X-ALT-DESC;FMTTYPE=text/html:<P>Salad of your choice\, Bread and Iced Tea </P><P>Main Entree 3 choices: </P><P>1) Shrimp Cappellini Primavera - Shrimp\, Angel Hair Pasta and Vegetables tossed with Tomato Butter Sauce. </P><P>2) Eggplant Rolatini - Eggplant stuffed with Ricotta and Mozzarella topped with Marinara Sauce and served with Spaghetti. </P><P>3) Chicken Marsala - Chicken Sauteed with Mushrooms in a Marsala Wine Sauce served with Spaghetti</P>
LOCATION:Bianco Pasta-Vino
UID:e.2020.598
SEQUENCE:3
DTSTAMP:20260425T023608Z
URL:https://members.metrosa.com/events/details/2009-april-ambassador-lunch-meeting-04-16-2009-598
END:VEVENT

END:VCALENDAR
