BEGIN:VCALENDAR
VERSION:2.0
PRODID:-//ChamberMaster//Event Calendar 2.0//EN
METHOD:PUBLISH
X-PUBLISHED-TTL:P3D
REFRESH-INTERVAL:P3D
CALSCALE:GREGORIAN
BEGIN:VEVENT
DTSTART:20090402T210000Z
DTEND:20090402T220000Z
X-MICROSOFT-CDO-ALLDAYEVENT:FALSE
SUMMARY:2009 April GRAND OPENING @ Advanced First Auto & Collision
DESCRIPTION:ADVANCED FIRST AUTO & COLLISION REPAIR CENTERThursday April 2\, 20097538 Marbach Road\, 78227RIBBON CUTTING @ 4:00 P.M.CONTACT: Bill Anderson @ 440-1618 or Robert Gonzales @ 228-0716CHAMBER CONTACT: Samantha Collins @ 364-1581DIRECTIONS: www.northsachamber.com view the map at the calendar of events for this ribbon cutting.
X-ALT-DESC;FMTTYPE=text/html:<P>ADVANCED FIRST AUTO &amp\; COLLISION REPAIR CENTER</P><P>Thursday April 2\, 2009</P><P>7538 Marbach Road\, 78227</P><P>RIBBON CUTTING @ 4:00 P.M</P><P>.CONTACT: Bill Anderson @ 440-1618 or Robert Gonzales @ 228-0716</P><P>CHAMBER CONTACT: Samantha Collins @ 364-1581</P><P>DIRECTIONS: www.northsachamber.com view the map at the calendar of events for&nbsp\;this ribbon cutting. </P>
LOCATION:Advanced First Auto & Collision Repair Center
UID:e.2020.615
SEQUENCE:3
DTSTAMP:20260425T023455Z
URL:https://members.metrosa.com/events/details/2009-april-grand-opening-advanced-first-auto-collision-04-02-2009-615
END:VEVENT

END:VCALENDAR
