BEGIN:VCALENDAR
VERSION:2.0
PRODID:-//ChamberMaster//Event Calendar 2.0//EN
METHOD:PUBLISH
X-PUBLISHED-TTL:P3D
REFRESH-INTERVAL:P3D
CALSCALE:GREGORIAN
BEGIN:VEVENT
DTSTART:20090430T203000Z
DTEND:20090430T223000Z
X-MICROSOFT-CDO-ALLDAYEVENT:FALSE
SUMMARY:2009 April GRAND OPENING @ New Sound Hearing Aid Center
DESCRIPTION:NEW SOUND HEARING AID CENTER - ALAMO HEIGHTS7410 Broadway\, 78209Thursday April 30\, 2009RIBBON CUTTING @ 3:30 p.m.CONTACT: Jerry Rowray @ 829-7438CHAMBER CONTACT: Samantha Collins @ cell 364-158DIRECTIONS: see map at www.northsachamber.com click on Calendar of Events\, click on the ribbon cutting description and view printed information scrool to bottom & click on 'MAP'. At NewSound Hearing Aid Centers we want you to achieve the best hearing possible and we want you to have a hearing care experience that is second to none. Our goal is to reinvent the hearing correction experience\, and we continue to work to make it even better for you.Simply put\, we focus on you. We provide:• State-of-the-art hearing correction technology.• Uncompromising and exceptional service.
X-ALT-DESC;FMTTYPE=text/html:<P>NEW SOUND HEARING AID CENTER - ALAMO HEIGHTS</P><P>7410 Broadway\, 78209</P><P>Thursday April 30\, 2009</P><P>RIBBON CUTTING @ 3:30 p.m.</P><P>CONTACT: Jerry Rowray @ 829-7438</P><P>CHAMBER CONTACT: Samantha Collins @ cell 364-158</P><P>DIRECTIONS: see map at www.northsachamber.com click on Calendar of Events\, click on the ribbon cutting description and view printed information scrool to bottom &amp\; click on 'MAP'. </P><P>At NewSound Hearing Aid Centers we want you to achieve the best hearing possible and we want you to have a hearing care experience that is second to none. Our goal is to reinvent the hearing correction experience\, and we continue to work to make it even better for you.Simply put\, we focus on you. We provide:• State-of-the-art hearing correction technology.• Uncompromising and exceptional service.</P>
LOCATION:New Sound Hearing Aid Center/Alamo Hts
UID:e.2020.626
SEQUENCE:3
DTSTAMP:20260425T023846Z
URL:https://members.metrosa.com/events/details/2009-april-grand-opening-new-sound-hearing-aid-center-04-30-2009-626
END:VEVENT

END:VCALENDAR
