BEGIN:VCALENDAR
VERSION:2.0
PRODID:-//ChamberMaster//Event Calendar 2.0//EN
METHOD:PUBLISH
X-PUBLISHED-TTL:P3D
REFRESH-INTERVAL:P3D
CALSCALE:GREGORIAN
BEGIN:VEVENT
DTSTART:20090429T223000Z
DTEND:20090430T003000Z
X-MICROSOFT-CDO-ALLDAYEVENT:FALSE
SUMMARY:2009 April GRAND OPENING@Springhill Suites by Marriott Airpo
DESCRIPTION:SPRINGHILL SUITES BY MARRIOTT AIRPORT514 NE Loop 410 Wednesday April 29\, 2009RIBBON CUTTING @ 5:30 p.m.CONTACT: Susana Garcia or Loretta Mendoza @ 340-9991CHAMBER CONTACT: Samantha Collins @ 364-1581DIRECTIONS: www.marriott.com/satsa Located near San Antonio International Airport\, this San Antonio Marriott hotel allows guests to experience the convenience of being close to San Antonio International Airport when visiting the beautiful city of San Antonio. We'll pick you up at San Antonio International Airport\, with complimentary Airport Shuttle Service. Just a few short minutes from extraordinary sightseeing of Downtown San Antonio\, the Historic Riverwalk and the Legendary Alamo. Don't forget to visit Shamu at San Antonio Sea World located just minutes away or seek some thrills at Fiesta Texas San Antonio. Business and leisure travelers can enjoy the finer details of staying at Springhill Suites by Marriott San Antonio Airport hotel like an in-room coffee maker\, mini-fridge and microwave. Take it slow with our many amenities including indoor swimming pool with a shimmering water feature! Be efficient and connected with our wireless internet available at the Springhill Suites Airport.
X-ALT-DESC;FMTTYPE=text/html:<P>SPRINGHILL SUITES BY MARRIOTT AIRPORT</P><P>514 NE Loop 410 </P><P>Wednesday April 29\, 2009</P><P>RIBBON CUTTING @ 5:30 p.m.</P><P>CONTACT: Susana Garcia or Loretta Mendoza @ 340-9991</P><P>CHAMBER CONTACT: Samantha Collins @ 364-1581</P><P>DIRECTIONS: <A href="http://www.marriott.com/satsa">www.marriott.com/satsa</A> </P><P>Located near San Antonio International Airport\, this San Antonio Marriott hotel allows guests to experience the convenience of being close to San Antonio International Airport when visiting the beautiful city of San Antonio. We'll pick you up at San Antonio International Airport\, with complimentary Airport Shuttle Service. Just a few short minutes from extraordinary sightseeing of Downtown San Antonio\, the Historic Riverwalk and the Legendary Alamo. Don't forget to visit Shamu at San Antonio Sea World located just minutes away or seek some thrills at Fiesta Texas San Antonio. Business and leisure travelers can enjoy the finer details of staying at Springhill Suites by Marriott San Antonio Airport hotel like an in-room coffee maker\, mini-fridge and microwave. Take it slow with our many amenities including indoor swimming pool with a shimmering water feature! Be efficient and connected with our wireless internet available at the Springhill Suites Airport.</P>
LOCATION:Springhill Suites by Marriott Airport
UID:e.2020.617
SEQUENCE:3
DTSTAMP:20260425T023734Z
URL:https://members.metrosa.com/events/details/2009-april-grand-opening-springhill-suites-by-marriott-airpo-04-29-2009-617
END:VEVENT

END:VCALENDAR
