BEGIN:VCALENDAR
VERSION:2.0
PRODID:-//ChamberMaster//Event Calendar 2.0//EN
METHOD:PUBLISH
X-PUBLISHED-TTL:P3D
REFRESH-INTERVAL:P3D
CALSCALE:GREGORIAN
BEGIN:VEVENT
DTSTART:20091201T220000Z
DTEND:20091202T000000Z
X-MICROSOFT-CDO-ALLDAYEVENT:FALSE
SUMMARY:2009 DEC * GRAND OPENING @ SeeKing HR
DESCRIPTION:SEEKING HR115 East Travis\, Suite 444 The Milam BuildingTuesday December 1\, 2009RIBBON CUTTING @ 4:00 p.m.CONTACT: Leanne King @ 219-6993CHAMBER CONTACT: Samantha Collins @ 364-7726DIRECTIONS:  IH 35 south\, Houston Commerce Exit\, Turn Left Houston Street\, Turn left on Soledad (Milam building is on the right)Refreshments will be served.SeeKing HR\, a full service Human Resource consulting firm\, operates from three guiding principles: Faith\, Passion and Paying It Forward. SeeKing HR provides three primary service levels: Governmental\, Organizational and Individual. Knowledge Partners is an invitation only organization providing B2B referrals for a variety of industries and organizations. www.seekinghr.com
X-ALT-DESC;FMTTYPE=text/html:<P>SEEKING HR</P><P>115 East Travis\, Suite 444 </P><P>The Milam Building</P><P>Tuesday December 1\, 2009</P><P>RIBBON CUTTING @ 4:00 p.m.</P><P>CONTACT: Leanne King @ 219-6993</P><P>CHAMBER CONTACT: Samantha Collins @ 364-7726</P><P><FONT color=#1f1f1f>DIRECTIONS:&nbsp\; IH 35 south\, Houston Commerce Exit\, Turn Left Houston Street\, Turn left on Soledad (Milam building is on the right)Refreshments will be served.</FONT></P><P><EM>SeeKing HR\, a full service Human Resource consulting firm\, operates from three guiding principles: Faith\, Passion and Paying It Forward. SeeKing HR provides three primary service levels: Governmental\, Organizational and Individual. Knowledge Partners is an invitation only organization providing B2B referrals for a variety of industries and organizations. <U>www.seekinghr.com</U></EM> </P>
LOCATION:SeeKing HR
UID:e.2020.676
SEQUENCE:3
DTSTAMP:20260424T171150Z
URL:https://members.metrosa.com/events/details/2009-dec-grand-opening-seeking-hr-12-01-2009-676
END:VEVENT

END:VCALENDAR
