BEGIN:VCALENDAR
VERSION:2.0
PRODID:-//ChamberMaster//Event Calendar 2.0//EN
METHOD:PUBLISH
X-PUBLISHED-TTL:P3D
REFRESH-INTERVAL:P3D
CALSCALE:GREGORIAN
BEGIN:VEVENT
DTSTART:20090716T163000Z
DTEND:20090716T180000Z
X-MICROSOFT-CDO-ALLDAYEVENT:FALSE
SUMMARY:2009 July Ambassador Lunch Meeting
DESCRIPTION:LOCATION: BRASSERIE PAVIL 1818 N Loop 1604 West #101Same Shopping Center as Roaring Fork & Wild Fish Directions (210)479-5000 and map on chamber website MENU: Grilled Chicken Paillard with vegetables. DESSERT: Gateau au Chocolat - glazed chocolate cake with apricot marmalade filling & vanilla anglaise.
X-ALT-DESC;FMTTYPE=text/html:<P>LOCATION: BRASSERIE PAVIL </P><P>1818 N Loop 1604 West #101</P><P>Same Shopping Center as Roaring Fork &amp\; Wild Fish </P><P>Directions (210)479-5000 and map on chamber website </P><P>MENU: Grilled Chicken Paillard with vegetables. </P><P>DESSERT: Gateau au Chocolat - glazed chocolate cake with apricot marmalade filling &amp\; vanilla anglaise. </P>
LOCATION:Brasserie Pavil
UID:e.2020.601
SEQUENCE:3
DTSTAMP:20260424T232011Z
URL:https://members.metrosa.com/events/details/2009-july-ambassador-lunch-meeting-07-16-2009-601
END:VEVENT

END:VCALENDAR
