BEGIN:VCALENDAR
VERSION:2.0
PRODID:-//ChamberMaster//Event Calendar 2.0//EN
METHOD:PUBLISH
X-PUBLISHED-TTL:P3D
REFRESH-INTERVAL:P3D
CALSCALE:GREGORIAN
BEGIN:VEVENT
DTSTART:20090710T050000Z
DTEND:20090710T050000Z
X-MICROSOFT-CDO-ALLDAYEVENT:FALSE
SUMMARY:2009 JULY Grand Opening @ Smashburger
DESCRIPTION:2009 JULY Grand Opening @ Smashburger
X-ALT-DESC;FMTTYPE=text/html:2009 JULY Grand Opening @ Smashburger
LOCATION:Smashburger Restaurant
UID:e.2020.3851
SEQUENCE:3
DTSTAMP:20260424T231941Z
URL:https://members.metrosa.com/events/details/2009-july-grand-opening-smashburger-07-10-2009-3851
END:VEVENT

END:VCALENDAR
