BEGIN:VCALENDAR
VERSION:2.0
PRODID:-//ChamberMaster//Event Calendar 2.0//EN
METHOD:PUBLISH
X-PUBLISHED-TTL:P3D
REFRESH-INTERVAL:P3D
CALSCALE:GREGORIAN
BEGIN:VEVENT
DTSTART:20090618T163000Z
DTEND:20090618T180000Z
X-MICROSOFT-CDO-ALLDAYEVENT:FALSE
SUMMARY:2009 June Ambassador Lunch Meeting
DESCRIPTION:Grilled Salmon & Chicken Breast Puttanesca - with Tomatoes\, Peppers\, Capers\, Olives Sauce and sauteed Spinach & Roasted Potatoes. Dessert will be Classic Creme Brulee.
X-ALT-DESC;FMTTYPE=text/html:<P>Grilled Salmon &amp\; Chicken Breast Puttanesca - with Tomatoes\, Peppers\, Capers\, Olives Sauce and sauteed Spinach &amp\; Roasted Potatoes. </P><P>Dessert will be Classic Creme Brulee. </P>
LOCATION:Brasserie Pavil
UID:e.2020.600
SEQUENCE:3
DTSTAMP:20260425T001931Z
URL:https://members.metrosa.com/events/details/2009-june-ambassador-lunch-meeting-06-18-2009-600
END:VEVENT

END:VCALENDAR
