BEGIN:VCALENDAR
VERSION:2.0
PRODID:-//ChamberMaster//Event Calendar 2.0//EN
METHOD:PUBLISH
X-PUBLISHED-TTL:P3D
REFRESH-INTERVAL:P3D
CALSCALE:GREGORIAN
BEGIN:VEVENT
DTSTART:20090625T121500Z
DTEND:20090625T140000Z
X-MICROSOFT-CDO-ALLDAYEVENT:FALSE
SUMMARY:2009 June CIO Breakfast
DESCRIPTION:Note:  If you are not currently subscribed to CIO Breakfast information\, please contact Debby Zucker before registering - 210.344.4848.  Thank youJune's Topic:  Data Centers & Going Green
X-ALT-DESC;FMTTYPE=text/html:<P><FONT face=Arial color=#ff0000 size=2><EM>Note:&nbsp\; If you are not currently subscribed to CIO Breakfast information\, please contact Debby Zucker before registering - 210.344.4848.&nbsp\; Thank you</EM></FONT></P><P><SPAN style="FONT-SIZE: 12pt\; FONT-FAMILY: 'Times New Roman'\; mso-fareast-font-family: 'Times New Roman'\; mso-ansi-language: EN-US\; mso-fareast-language: EN-US\; mso-bidi-language: AR-SA"></SPAN></P><P><SPAN style="FONT-SIZE: 12pt\; FONT-FAMILY: 'Times New Roman'\; mso-fareast-font-family: 'Times New Roman'\; mso-ansi-language: EN-US\; mso-fareast-language: EN-US\; mso-bidi-language: AR-SA">June's Topic:&nbsp\; Data Centers &amp\; Going Green</SPAN></P>
LOCATION:Microsoft Data Center Tour
UID:e.2020.597
SEQUENCE:3
DTSTAMP:20260425T001648Z
URL:https://members.metrosa.com/events/details/2009-june-cio-breakfast-06-25-2009-597
END:VEVENT

END:VCALENDAR
