BEGIN:VCALENDAR
VERSION:2.0
PRODID:-//ChamberMaster//Event Calendar 2.0//EN
METHOD:PUBLISH
X-PUBLISHED-TTL:P3D
REFRESH-INTERVAL:P3D
CALSCALE:GREGORIAN
BEGIN:VEVENT
DTSTART:20090618T223000Z
DTEND:20090619T000000Z
X-MICROSOFT-CDO-ALLDAYEVENT:FALSE
SUMMARY:2009 JUNE* GRAND OPENING @ FIT Financial
DESCRIPTION:FIT FINANCIAL434 N Loop 1604 W\, Suite 2204 Thursday June 18\, 2009RIBBON CUTTING @ 5:30 p.mCONTACT: Olga Ramon @ 490-3483CHAMBER CONTACT: Samantha Collins @ 364-1581DIRECTIONS: view location map at north chamber website 'calendar of events'
X-ALT-DESC;FMTTYPE=text/html:<P>FIT FINANCIAL</P><P>434 N Loop 1604 W\, Suite 2204 </P><P>Thursday June 18\, 2009</P><P>RIBBON CUTTING @ 5:30&nbsp\;p.m</P><P>CONTACT: Olga Ramon @ 490-3483</P><P>CHAMBER CONTACT: Samantha Collins @ 364-1581</P><P>DIRECTIONS: view location map at north chamber website 'calendar of events'</P>
LOCATION:FIT Financial
UID:e.2020.616
SEQUENCE:3
DTSTAMP:20260425T002357Z
URL:https://members.metrosa.com/events/details/2009-june-grand-opening-fit-financial-06-18-2009-616
END:VEVENT

END:VCALENDAR
