BEGIN:VCALENDAR
VERSION:2.0
PRODID:-//ChamberMaster//Event Calendar 2.0//EN
METHOD:PUBLISH
X-PUBLISHED-TTL:P3D
REFRESH-INTERVAL:P3D
CALSCALE:GREGORIAN
BEGIN:VEVENT
DTSTART:20090324T210000Z
DTEND:20090324T230000Z
X-MICROSOFT-CDO-ALLDAYEVENT:FALSE
SUMMARY:2009 March GRAND OPENING @ Caliente Harley Davidson
DESCRIPTION:CALIENTE HARLEY-DAVIDSON7230 NW Loop 410\, 78245Tuesday March 24\, 2009RIBBON CUTTING @ 4:00 p.m.CONTACT: Paige & Fred Bosshardt @ 681-2254DIRECTIONS: www.calienteharley.com CALIENTE HARLEY-DAVIDSON SUPPORTS THE SPURS FOUNDATION Caliente Harley-Davidson is proud to announce that it is a major sponsor of the San Antonio Spurs Foundation "SPURFECT ATTENDANCE" program. This program provides a free Spurs Game Ticket to local students with perfect attendance during a specific grading period. The non-profit 50\, the Spurs Foundation was recognized in 1988 to make goodwill and financial support for inexpensively\, expressively and bodily deprived youth in South Texas. Since its inception in 1988\, the Spurs Foundation has given more than ten million dollars in cash and in-type contributions to worthy South Texas children. The Spurs Foundation's volunteer board includes admirers\, neighbourhood leaders\, former Spurs players and representatives from the corporate and civic divisions.
X-ALT-DESC;FMTTYPE=text/html:<P>CALIENTE HARLEY-DAVIDSON7</P><P>230 NW Loop 410\, 78245</P><P>Tuesday March 24\, 2009</P><P>RIBBON CUTTING @ 4:00 p.m.</P><P>CONTACT: Paige &amp\; Fred Bosshardt @ 681-2254</P><P>DIRECTIONS: <A href="http://www.calienteharley.com">www.calienteharley.com</A> </P><P>CALIENTE HARLEY-DAVIDSON SUPPORTS THE SPURS FOUNDATION </P><P align=left>Caliente Harley-Davidson is proud to announce that it is a major sponsor of the San Antonio Spurs Foundation "SPURFECT ATTENDANCE" program. This program provides a free Spurs Game Ticket to local students with perfect attendance during a specific grading period. The non-profit 50\, the Spurs Foundation was recognized in 1988 to make goodwill and financial support for inexpensively\, expressively and bodily deprived youth in South Texas. Since its inception in 1988\, the Spurs Foundation has given more than ten million dollars in cash and in-type contributions to worthy South Texas children. The Spurs Foundation's volunteer board includes admirers\, neighbourhood leaders\, former Spurs players and representatives from the corporate and civic divisions.</P>
LOCATION:Caliente Harley Davidson
UID:e.2020.613
SEQUENCE:3
DTSTAMP:20260425T034045Z
URL:https://members.metrosa.com/events/details/2009-march-grand-opening-caliente-harley-davidson-03-24-2009-613
END:VEVENT

END:VCALENDAR
