BEGIN:VCALENDAR
VERSION:2.0
PRODID:-//ChamberMaster//Event Calendar 2.0//EN
METHOD:PUBLISH
X-PUBLISHED-TTL:P3D
REFRESH-INTERVAL:P3D
CALSCALE:GREGORIAN
BEGIN:VEVENT
DTSTART:20090309T150000Z
DTEND:20090309T170000Z
X-MICROSOFT-CDO-ALLDAYEVENT:FALSE
SUMMARY:2009 MARCH GRAND OPENING @ METHODIST STONE OAK HOSPITAL
DESCRIPTION:METHODIST STONE OAK HOSPITAL1139 E. Sonterra Blvd Monday March 9\, 2009RIBBON CUTTING @ 10:00 a.m.CONTACT: JoAnn King @ 575-0171CHAMBER CONTACT: Samantha Collins @ 364-1581 CELLDIRECTIONS: Sonterra at Hardy OakAt Methodist Stone Oak Hospital\, we will continue Methodist Healthcare’s tradition of bringing innovative health care to San Antonio. Methodist Stone Oak is truly the hospital of the future where high-tech and high-touch come together.This facility was recently distinguished as the first hospital in the U.S. that will open as a Hispanic Healthcare Hospital by the Diversity Healthcare Institute of Mexico. Achieving this honor is just one of the many ways in Methodist Stone Oak Hospital has proven to be a facility focused on the community it serves.
X-ALT-DESC;FMTTYPE=text/html:<P>METHODIST STONE OAK HOSPITAL</P><P>1139 E. Sonterra Blvd </P><P>Monday March 9\, 2009</P><P>RIBBON CUTTING @ 10:00 a.m.</P><P>CONTACT: JoAnn King @ 575-0171</P><P>CHAMBER CONTACT: Samantha Collins @ 364-1581 CELL</P><P>DIRECTIONS: Sonterra at Hardy Oak</P><P>At Methodist Stone Oak Hospital\, we will continue Methodist Healthcare’s tradition of bringing innovative health care to San Antonio. Methodist Stone Oak is truly the hospital of the future where high-tech and high-touch come together.</P><P>This facility was recently distinguished as the first hospital in the U.S. that will open as a Hispanic Healthcare Hospital by the Diversity Healthcare Institute of Mexico. Achieving this honor is just one of the many ways in Methodist Stone Oak Hospital has proven to be a facility focused on the community it serves. </P>
LOCATION:Methodist Stone Oak Hospital
UID:e.2020.619
SEQUENCE:3
DTSTAMP:20260425T034159Z
URL:https://members.metrosa.com/events/details/2009-march-grand-opening-methodist-stone-oak-hospital-03-09-2009-619
END:VEVENT

END:VCALENDAR
