BEGIN:VCALENDAR
VERSION:2.0
PRODID:-//ChamberMaster//Event Calendar 2.0//EN
METHOD:PUBLISH
X-PUBLISHED-TTL:P3D
REFRESH-INTERVAL:P3D
CALSCALE:GREGORIAN
BEGIN:VEVENT
DTSTART:20090301T060000Z
DTEND:20090331T050000Z
X-MICROSOFT-CDO-ALLDAYEVENT:FALSE
SUMMARY:2009 March Lab Alumni Newsletter Ads 1st Qtr
DESCRIPTION:2009 March Lab Alumni Newsletter Ads 1st Qtr
X-ALT-DESC;FMTTYPE=text/html:2009 March Lab Alumni Newsletter Ads 1st Qtr
LOCATION:2009 Leadership Lab Alumni
UID:e.2020.2199
SEQUENCE:3
DTSTAMP:20260425T034143Z
URL:https://members.metrosa.com/events/details/2009-march-lab-alumni-newsletter-ads-1st-qtr-03-01-2009-2199
END:VEVENT

END:VCALENDAR
