BEGIN:VCALENDAR
VERSION:2.0
PRODID:-//ChamberMaster//Event Calendar 2.0//EN
METHOD:PUBLISH
X-PUBLISHED-TTL:P3D
REFRESH-INTERVAL:P3D
CALSCALE:GREGORIAN
BEGIN:VEVENT
DTSTART:20090519T203000Z
DTEND:20090519T223000Z
X-MICROSOFT-CDO-ALLDAYEVENT:FALSE
SUMMARY:2009 May * 10th Anniversary RIBBON CUTTING @ Hovey Motorcars
DESCRIPTION:HOVEY MOTORCARS9919 San Pedro\, 78216Tuesday May 19\, 2009RIBBON CUTTING @ 4:15 p.m.10th ANNIVERSARY EVENT - 3:30 - 5:30 p.m.CONTACT: Ed Fairchild @ 384-0084 or cell 273-9528CHAMBER CONTACT: Samantha Collins @ cell 364-1581DIRECTIONS: Hwy 281 South\, exit San Pedro/410 - travel on to San Pedro Avenue. Hovey Motorcars is located at the corner of San Pedro and Ramsey on the right side of the road traveling south. **Snacks and Refreshments will be served**Drawings will be held for (two) One Year Memberships to Texas Shine Car Wash and DetailWhat is the Hoveys Secret Ingredient? Many things. We Cherry Pick cars and then buy the Best\, Lowest Mileage\, Best Optioned cars. We treat everyone to a POSITIVE\, POLITE\, and PROFESSIONAL family atmosphere. The Hovey family and team is a true car family\, devoting their entire lives to the love of people and cars. * Dupont Registry Magazine AWARD of EXCELLENCE for 10 Consecutive Years.* Hovey Motorcars is the only company in the World to receive this award that many times
X-ALT-DESC;FMTTYPE=text/html:<P><STRONG>HOVEY MOTORCARS</STRONG></P><P><STRONG>9919 San Pedro\, 78216</STRONG></P><P><STRONG>Tuesday May 19\, 2009</STRONG></P><P><STRONG>RIBBON CUTTING @ 4:15 p.m.</STRONG></P><P><STRONG>10th ANNIVERSARY EVENT - 3:30 - 5:30 p.m.</STRONG></P><P>CONTACT: Ed Fairchild @ 384-0084 or cell 273-9528</P><P>CHAMBER CONTACT: Samantha Collins @ cell 364-1581</P><P>DIRECTIONS: Hwy 281 South\, exit San Pedro/410 - travel on to San Pedro Avenue. Hovey Motorcars is located at the corner of San Pedro and Ramsey on the right side of the road&nbsp\;traveling south. </P><P>**Snacks and Refreshments will be served</P><P><U><STRONG>**Drawings will be held for (two) One Year Memberships to Texas Shine Car Wash and Detail</STRONG></U></P><P>What is the Hoveys Secret Ingredient? Many things. We Cherry Pick cars and then buy the Best\, Lowest Mileage\, Best Optioned cars. We treat everyone to a POSITIVE\, POLITE\, and PROFESSIONAL family atmosphere. The Hovey family and team is a true car family\, devoting their entire lives to the love of people and cars. * Dupont Registry Magazine AWARD of EXCELLENCE for 10 Consecutive Years.* Hovey Motorcars is the only company in the World to receive this award that many times</P>
LOCATION:Hovey Motorcars
UID:e.2020.628
SEQUENCE:3
DTSTAMP:20260425T013253Z
URL:https://members.metrosa.com/events/details/2009-may-10th-anniversary-ribbon-cutting-hovey-motorcars-05-19-2009-628
END:VEVENT

END:VCALENDAR
