BEGIN:VCALENDAR
VERSION:2.0
PRODID:-//ChamberMaster//Event Calendar 2.0//EN
METHOD:PUBLISH
X-PUBLISHED-TTL:P3D
REFRESH-INTERVAL:P3D
CALSCALE:GREGORIAN
BEGIN:VEVENT
DTSTART:20090505T203000Z
DTEND:20090505T223000Z
X-MICROSOFT-CDO-ALLDAYEVENT:FALSE
SUMMARY:2009 May * GRAND OPENING @ Brasserie Pavil
DESCRIPTION:BRASSERIE PAVIL 1818 N Loop 1604 West #101\, 78248Tuesday May 5\, 2009RIBBON CUTTING @ 6:00 p.m.CONTACT: Luciano Ciorciari\, GM @ 479-5000CHAMBER CONTACT: Samantha Collins @ 364-1581DIRECTIONS: www.brasseriepavil.com When the home page opens click on 'About Us' the drop down window has a list of items and one is 'Hours & Directions". Click open and plug in your starting address and view the map to the location. The restaurant is in the same shopping center as Roaring Fork and Wild Fish.Brasserie Pavil is an authentic French brasserie reminiscent of the historic and popular brasseries found in Paris and other parts of the world where French cuisine flourishes. Brasserie Pavil is the first classic French brasserie in San Antonio. It offers a casual atmosphere\, a choice of outside patio dining\, professional service\, and superior Parisian cuisine\, like Steak Frites\, Seafood Plateaus and Coq au Vin. We have an extensive wine selection with an array of French and domestic labels as well as hand crafted local and international beers served from our handsome zinc bar. With reservations\, we can serve groups from 10 to 90 persons in our lovely private dining rooms.
X-ALT-DESC;FMTTYPE=text/html:<P><STRONG>BRASSERIE PAVIL </STRONG></P><P><STRONG>1818 N Loop 1604 West #101\, 78248</STRONG></P><P><STRONG>Tuesday May 5\, 2009</STRONG></P><P><STRONG>RIBBON CUTTING @ 6:00 p.m.</STRONG></P><P><STRONG>CONTACT: Luciano Ciorciari\, GM @ 479-5000</STRONG></P><P><STRONG>CHAMBER CONTACT: Samantha Collins @ 364-1581</STRONG></P><P><STRONG>DIRECTIONS:</STRONG> <U>www.brasseriepavil.com</U> When the home page opens click on 'About Us' the drop down window has a list of items and one is 'Hours &amp\; Directions". Click open and plug in your starting address and view the map to the location. The restaurant is in the same shopping center as Roaring Fork and Wild Fish.</P><P><EM><STRONG>Brasserie Pavil&nbsp\;is an authentic French brasserie reminiscent of the historic and popular brasseries found in Paris and other parts of the world where French cuisine flourishes. Brasserie Pavil is the first classic French brasserie in San Antonio. It offers a casual atmosphere\, a choice of outside patio dining\, professional service\, and superior Parisian cuisine\, like Steak Frites\, Seafood Plateaus and Coq au Vin. We have an extensive wine selection with an array of French and domestic labels as well as hand crafted local and international beers served from our handsome zinc bar. With reservations\, we can serve groups from 10 to 90 persons in our lovely private dining rooms.</STRONG></EM></P>
LOCATION:Brasserie Pavil
UID:e.2020.627
SEQUENCE:3
DTSTAMP:20260425T012631Z
URL:https://members.metrosa.com/events/details/2009-may-grand-opening-brasserie-pavil-05-05-2009-627
END:VEVENT

END:VCALENDAR
