BEGIN:VCALENDAR
VERSION:2.0
PRODID:-//ChamberMaster//Event Calendar 2.0//EN
METHOD:PUBLISH
X-PUBLISHED-TTL:P3D
REFRESH-INTERVAL:P3D
CALSCALE:GREGORIAN
BEGIN:VEVENT
DTSTART:20090512T213000Z
DTEND:20090512T233000Z
X-MICROSOFT-CDO-ALLDAYEVENT:FALSE
SUMMARY:2009 MAY * GRAND OPENING @ Fashion Emporium Boutique
DESCRIPTION:FASHION EMPORIUM BOUTIQUE300 West Bitters\, Suite 160 - 78216Tuesday May 12\, 2009RIBBON CUTTING @ 4:30 p.m.CONTACT: Evan Banis @ 724-6027 or 490-2412CHAMBER CONTACT: Samantha Collins @ cell - 364-1581DIRECTIONS: Corner of Bitters Road and West Avenue in The Mercado At Camino Real Shopping Center. www.fashionemporiumboutique.comFashion Emporium is a unique retail boutique located in north central San Antonio. Specializing in fashions to include consignment\, vintage\, practically new and one-of-a-kind. The boutiques is managed by owners\, Eva & Gentry Banis and daughter Adriana Nicole.
X-ALT-DESC;FMTTYPE=text/html:<P>FASHION EMPORIUM BOUTIQUE</P><P>300 West Bitters\, Suite 160 - 78216</P><P>Tuesday May 12\, 2009</P><P>RIBBON CUTTING @ 4:30 p.m.</P><P>CONTACT: Evan Banis @ 724-6027 or 490-2412</P><P>CHAMBER CONTACT: Samantha Collins @ cell - 364-1581</P><P>DIRECTIONS: Corner of Bitters Road and West Avenue in The Mercado At Camino Real Shopping Center. <A href="http://www.fashionemporiumboutique.com">www.fashionemporiumboutique.com</A></P><P>Fashion Emporium is a unique retail boutique located in north central San Antonio. Specializing in fashions to include consignment\, vintage\, practically new and one-of-a-kind. The boutiques is managed by owners\, Eva &amp\; Gentry Banis and daughter Adriana Nicole. </P>
LOCATION:Fashion Emporium Boutique
UID:e.2020.629
SEQUENCE:3
DTSTAMP:20260425T012749Z
URL:https://members.metrosa.com/events/details/2009-may-grand-opening-fashion-emporium-boutique-05-12-2009-629
END:VEVENT

END:VCALENDAR
