BEGIN:VCALENDAR
VERSION:2.0
PRODID:-//ChamberMaster//Event Calendar 2.0//EN
METHOD:PUBLISH
X-PUBLISHED-TTL:P3D
REFRESH-INTERVAL:P3D
CALSCALE:GREGORIAN
BEGIN:VEVENT
DTSTART:20091120T233000Z
DTEND:20091121T010000Z
X-MICROSOFT-CDO-ALLDAYEVENT:FALSE
SUMMARY:2009 NOV*Relocation/Gallant Computer Investigative Svcs Inc.
DESCRIPTION:GALLANT COMPUTER INVESTIGATIVE SERVICES\, LLCRoughrider Professional Building8209 Roughrider Drive\, Suite 200\, Windcrest\, TX 78239Friday November 20\, 2009RIBBON CUTTING @ 4:00 p.m.CONTACT: David Gallant @ 271-2999CHAMBER CONTACT: Samantha Collins @ 364-1581DIRECTIONS: Hwy 35 N exit Walzem turn on to Walzem traveling towards Roosevelt HS past the High School turn left at Roughrider Drive www.WhatsOnTheComputer.comFood and Refreshments will be served. MISSION: Quality and timely computer forensics\, e-discovery services. VISION: At Gallant Computer Investigative Services\, LLC\, we strive to provide the best and most responsive computer forensic\, electronic discovery\, and incident response support to our clients\, as well as state of the art training to law enforcement and IT professionals
X-ALT-DESC;FMTTYPE=text/html:<P>GALLANT COMPUTER INVESTIGATIVE SERVICES\, LLC</P><P>Roughrider Professional Building</P><P>8209 Roughrider Drive\, Suite 200\, Windcrest\, TX 78239</P><P>Friday November 20\, 2009</P><P>RIBBON CUTTING @ 4:00 p.m.</P><P>CONTACT: David Gallant @ <SPAN lang=EN>271-2999</P></SPAN><P>CHAMBER CONTACT: Samantha Collins @ 364-1581</P><P>DIRECTIONS: Hwy 35 N exit Walzem turn on to Walzem traveling towards Roosevelt HS past the High School turn left at Roughrider Drive <A href="http://www.WhatsOnTheComputer.com">www.WhatsOnTheComputer.com</A></P><P>Food and Refreshments will be served. </P><P><STRONG><EM>MISSION: Quality and timely computer forensics\, e-discovery services. </EM></STRONG></P><P><STRONG><EM>VISION: At Gallant Computer Investigative Services\, LLC\, we strive to provide the best and most responsive computer forensic\, electronic discovery\, and incident response support to our clients\, as well as state of the art training to law enforcement and IT professionals</EM></STRONG></P>
LOCATION:Gallant Computer Investigative Svcs\, Inc
UID:e.2020.680
SEQUENCE:3
DTSTAMP:20260424T182854Z
URL:https://members.metrosa.com/events/details/2009-nov-relocation-gallant-computer-investigative-svcs-inc-11-20-2009-680
END:VEVENT

END:VCALENDAR
