BEGIN:VCALENDAR
VERSION:2.0
PRODID:-//ChamberMaster//Event Calendar 2.0//EN
METHOD:PUBLISH
X-PUBLISHED-TTL:P3D
REFRESH-INTERVAL:P3D
CALSCALE:GREGORIAN
BEGIN:VEVENT
DTSTART:20091002T120000Z
DTEND:20091002T140000Z
X-MICROSOFT-CDO-ALLDAYEVENT:FALSE
SUMMARY:2009 OCT * Chairman's Council Breakfast
DESCRIPTION:
X-ALT-DESC;FMTTYPE=text/html:
LOCATION:The Petroleum Club
UID:e.2020.666
SEQUENCE:3
DTSTAMP:20260424T194444Z
URL:https://members.metrosa.com/events/details/2009-oct-chairman-s-council-breakfast-10-02-2009-666
END:VEVENT

END:VCALENDAR
