BEGIN:VCALENDAR
VERSION:2.0
PRODID:-//ChamberMaster//Event Calendar 2.0//EN
METHOD:PUBLISH
X-PUBLISHED-TTL:P3D
REFRESH-INTERVAL:P3D
CALSCALE:GREGORIAN
BEGIN:VEVENT
DTSTART:20091013T210000Z
DTEND:20091013T223000Z
X-MICROSOFT-CDO-ALLDAYEVENT:FALSE
SUMMARY:2009 OCT * RIBBON CUTTING @ Confidential Search Solutions
DESCRIPTION:CONFIDENTIAL SEARCH SOLUTIONSThe Forum Building\, 15th Floor8000 IH 10 West\,  Suite 1521 \, 78230Tuesday October 13\, 2009OPEN HOUSE/ RIBBON CUTTING @ 4:00 P.M.CONTACT: TJ Haygood @ (210) 524-7712CHAMBER CONTACT: Samantha Collins @ 364-1581 cellDIRECTIONS: www.confidentialsearchsolutions.comFood & Refreshments will be servedConfidential Search Solutions is a privately held employment consulting and training service firm based in San Antonio\, Texas. We provide a menu of customized services to include: Executive Recruiting Services\, Empowerment Training Classes\, Executive Coaching Services\, and Job Fair Management Services. Our empowerment training classes and job fair management services are two of our revolutionary service offerings that our clients are very excited about.
X-ALT-DESC;FMTTYPE=text/html:<P>CONFIDENTIAL SEARCH SOLUTIONS</P><P>The Forum Building\, 15th Floor</P><P>8000 IH 10 West\, &nbsp\;Suite 1521 \, 78230</P><P>Tuesday October 13\, 2009</P><P>OPEN HOUSE/ RIBBON CUTTING @ 4:00 P.M.</P><P>CONTACT: TJ Haygood @ (210) 524-7712</P><P>CHAMBER CONTACT: Samantha Collins @ 364-1581 cell</P><P>DIRECTIONS: <A href="http://www.confidentialsearchsolutions.com">www.confidentialsearchsolutions.com</A></P><P>Food &amp\; Refreshments will be served</P><P><EM>Confidential Search Solutions is a privately held employment consulting and training service firm based in San Antonio\, Texas. We provide a menu of customized services to include: Executive Recruiting Services\, Empowerment Training Classes\, Executive Coaching Services\, and Job Fair Management Services. Our empowerment training classes and job fair management services are two of our revolutionary service offerings that our clients are very excited about.</EM></P>
LOCATION:Confidential Search Solutions
UID:e.2020.652
SEQUENCE:3
DTSTAMP:20260424T194428Z
URL:https://members.metrosa.com/events/details/2009-oct-ribbon-cutting-confidential-search-solutions-10-13-2009-652
END:VEVENT

END:VCALENDAR
