BEGIN:VCALENDAR
VERSION:2.0
PRODID:-//ChamberMaster//Event Calendar 2.0//EN
METHOD:PUBLISH
X-PUBLISHED-TTL:P3D
REFRESH-INTERVAL:P3D
CALSCALE:GREGORIAN
BEGIN:VEVENT
DTSTART:20091006T150000Z
DTEND:20091006T170000Z
X-MICROSOFT-CDO-ALLDAYEVENT:FALSE
SUMMARY:2009 OCT * RIBBON CUTTING @ Green Fields Market
DESCRIPTION:GREEN FIELDS MARKET19239 Stone Oak Pkwy\, 78258Tuesday October 6\, 2009RIBBON CUTTING @ 10:00 A.M.CONTACT: Tracy Wolff @ 495-4644 or Cell 213-2965CHAMBER CONTACT: Samantha Collins @ cell 364-1581DIRECTIONS: Exit from Loop 1604 on to Stone Oak Parkway travel past Sonterra Blvd. and just past Huebner Take the u-turn at Stonehue and the shopping center is on the right next to Taco Cabana and Walgreens. Go to website - www.greenfieldsmarketonline.com and click on LOCATIONS the map is there. Food and refreshments will be served. Welcome to Green Fields Market!Our natural food stores bring high quality\, healthy\, organic and specialty products to you and your family. We feature a wide selection of fresh products at competitive prices every day. Simple Shopping!We know you have a busy life. We promise - no more walking down long\, winding aisles that lead you everywhere but where you want to go. Step inside Green Fields Market to easily find the very best in fresh foods\, vitamins\, deli and healthy products.
X-ALT-DESC;FMTTYPE=text/html:<P>GREEN FIELDS MARKET</P><P>19239 Stone Oak Pkwy\, 78258</P><P>Tuesday October 6\, 2009</P><P>RIBBON CUTTING @ 10:00 A.M.</P><P>CONTACT: Tracy Wolff @ 495-4644 or Cell 213-2965</P><P>CHAMBER CONTACT: Samantha Collins @ cell 364-1581</P><P>DIRECTIONS: Exit from Loop 1604 on to Stone Oak Parkway travel past Sonterra Blvd. and just past Huebner Take the u-turn at Stonehue and the shopping center is on the right next to Taco Cabana and Walgreens. Go to website - www.greenfieldsmarketonline.com and click on LOCATIONS the map is there. </P><P>Food and refreshments will be served. </P><P><FONT size=4><STRONG>Welcome to Green Fields Market!</STRONG></FONT></P><P><EM>Our natural food stores bring high quality\, healthy\, organic and specialty products to you and your family. We feature a wide selection of fresh products at competitive prices every day.</EM> </P><P><FONT size=4><STRONG>Simple Shopping!</STRONG></FONT></P><P><EM>We know you have a busy life. We promise - no more walking down long\, winding aisles that lead you everywhere but where you want to go. Step inside Green Fields Market to easily find the very best in fresh foods\, vitamins\, deli and healthy products.</EM></P>
LOCATION:Green Fields Market
UID:e.2020.659
SEQUENCE:3
DTSTAMP:20260424T194444Z
URL:https://members.metrosa.com/events/details/2009-oct-ribbon-cutting-green-fields-market-10-06-2009-659
END:VEVENT

END:VCALENDAR
