BEGIN:VCALENDAR
VERSION:2.0
PRODID:-//ChamberMaster//Event Calendar 2.0//EN
METHOD:PUBLISH
X-PUBLISHED-TTL:P3D
REFRESH-INTERVAL:P3D
CALSCALE:GREGORIAN
BEGIN:VEVENT
DTSTART:20091007T190000Z
DTEND:20091007T210000Z
X-MICROSOFT-CDO-ALLDAYEVENT:FALSE
SUMMARY:2009 OCT * RIBBON CUTTING @ Holiday Inn NW / SeaWorld
DESCRIPTION:HOLIDAY INN NW/ SEAWORLD AREAThe State's First LEED Hotel101035 State Highway 151\, 78251Wednesday October 7\, 2009RIBBON CUTTING @ 2:00 p.m.CONTACT: Penny Herring @ 520-2508/ Cell 326-7546CHAMBER CONTACT: Samantha Collins @ 3641581 cellDIRECTIONS: Travel west on Loop 410 to Hwy 151 West exit Military\, Hotel on the right. Food & Refreshments will be served. The Holiday Inn Northwest/SeaWorld Area is a LEED certified eco-friendly hotel\, helping to save the environment. Easy access to SeaWorld of Texas. Service and extra amenities throughout the hotel. Learn about our LEED certification through the "Green Touch Screen" in the lobby.
X-ALT-DESC;FMTTYPE=text/html:<P><STRONG>HOLIDAY INN NW/ SEAWORLD AREA</STRONG></P><P><STRONG><U>The State's First LEED Hotel</U></STRONG></P><P><STRONG>101035 State Highway 151\, 78251</STRONG></P><P><STRONG>Wednesday October 7\, 2009</STRONG></P><P><STRONG>RIBBON CUTTING @ 2:00 p.m.</STRONG></P><P>CONTACT: Penny Herring @ 520-2508/ Cell 326-7546</P><P>CHAMBER CONTACT: Samantha Collins @ 3641581 cell</P><P>DIRECTIONS: Travel west on Loop 410 to Hwy 151 West exit Military\, Hotel on the right. </P><P>Food &amp\; Refreshments will be served. </P><DIV style="BORDER-RIGHT: medium none\; PADDING-RIGHT: 0in\; BORDER-TOP: medium none\; PADDING-LEFT: 0in\; PADDING-BOTTOM: 1pt\; BORDER-LEFT: medium none\; PADDING-TOP: 0in\; BORDER-BOTTOM: windowtext 3pt dotted"><P class=MsoNormal style="BORDER-RIGHT: medium none\; PADDING-RIGHT: 0in\; BORDER-TOP: medium none\; PADDING-LEFT: 0in\; PADDING-BOTTOM: 0in\; MARGIN: 0in 0in 0pt\; BORDER-LEFT: medium none\; PADDING-TOP: 0in\; BORDER-BOTTOM: medium none\; mso-layout-grid-align: none\; mso-border-bottom-alt: dotted windowtext 3.0pt\; mso-padding-alt: 0in 0in 1.0pt 0in"><FONT face=Arial><SPAN class=hdrightnavmainbody1><I style="mso-bidi-font-style: normal"><SPAN style="FONT-WEIGHT: normal\; FONT-SIZE: 11pt\; COLOR: black">The Holiday Inn Northwest/SeaWorld Area is a LEED certified eco-friendly hotel\, helping to save the environment. Easy access to SeaWorld of </SPAN></I></SPAN><?xml:namespace prefix = st1 ns = "urn:schemas-microsoft-com:office:smarttags" /><st1:State><st1:place><SPAN class=hdrightnavmainbody1><I style="mso-bidi-font-style: normal"><SPAN style="FONT-WEIGHT: normal\; FONT-SIZE: 11pt\; COLOR: black">Texas</SPAN></I></SPAN></st1:place></st1:State><SPAN class=hdrightnavmainbody1><I style="mso-bidi-font-style: normal"><SPAN style="FONT-WEIGHT: normal\; FONT-SIZE: 11pt\; COLOR: black">. Service and extra amenities throughout the hotel. Learn about our LEED certification through the "Green Touch Screen" in the lobby.</SPAN></I></SPAN></FONT></P></DIV>
LOCATION:Holiday Inn NW/ SeaWorld
UID:e.2020.667
SEQUENCE:3
DTSTAMP:20260424T194618Z
URL:https://members.metrosa.com/events/details/2009-oct-ribbon-cutting-holiday-inn-nw-seaworld-10-07-2009-667
END:VEVENT

END:VCALENDAR
