BEGIN:VCALENDAR
VERSION:2.0
PRODID:-//ChamberMaster//Event Calendar 2.0//EN
METHOD:PUBLISH
X-PUBLISHED-TTL:P3D
REFRESH-INTERVAL:P3D
CALSCALE:GREGORIAN
BEGIN:VEVENT
DTSTART:20091022T121500Z
DTEND:20091022T140000Z
X-MICROSOFT-CDO-ALLDAYEVENT:FALSE
SUMMARY:2009 October CIO Breakfast
DESCRIPTION:Note:  If you are not currently subscribed to CIO Breakfast information\, please contact Debby Zucker before registering - 210.344.4848.  Thank youJune's Topic:  Data Centers & Going Green
X-ALT-DESC;FMTTYPE=text/html:<P><FONT face=Arial color=#ff0000 size=2><EM>Note:&nbsp\; If you are not currently subscribed to CIO Breakfast information\, please contact Debby Zucker before registering - 210.344.4848.&nbsp\; Thank you</EM></FONT></P><P><SPAN style="FONT-SIZE: 12pt\; FONT-FAMILY: 'Times New Roman'\; mso-fareast-font-family: 'Times New Roman'\; mso-ansi-language: EN-US\; mso-fareast-language: EN-US\; mso-bidi-language: AR-SA"></SPAN></P><P><SPAN style="FONT-SIZE: 12pt\; FONT-FAMILY: 'Times New Roman'\; mso-fareast-font-family: 'Times New Roman'\; mso-ansi-language: EN-US\; mso-fareast-language: EN-US\; mso-bidi-language: AR-SA">June's Topic:&nbsp\; Data Centers &amp\; Going Green</SPAN></P>
LOCATION:The Petroleum Club
UID:e.2020.655
SEQUENCE:3
DTSTAMP:20260424T194225Z
URL:https://members.metrosa.com/events/details/2009-october-cio-breakfast-10-22-2009-655
END:VEVENT

END:VCALENDAR
