BEGIN:VCALENDAR
VERSION:2.0
PRODID:-//ChamberMaster//Event Calendar 2.0//EN
METHOD:PUBLISH
X-PUBLISHED-TTL:P3D
REFRESH-INTERVAL:P3D
CALSCALE:GREGORIAN
BEGIN:VEVENT
DTSTART:20091020T123000Z
DTEND:20091020T210000Z
X-MICROSOFT-CDO-ALLDAYEVENT:FALSE
SUMMARY:2009 October EWC Raffle
DESCRIPTION:
X-ALT-DESC;FMTTYPE=text/html:
LOCATION:
UID:e.2020.663
SEQUENCE:3
DTSTAMP:20260424T194223Z
URL:https://members.metrosa.com/events/details/2009-october-ewc-raffle-10-20-2009-663
END:VEVENT

END:VCALENDAR
