BEGIN:VCALENDAR
VERSION:2.0
PRODID:-//ChamberMaster//Event Calendar 2.0//EN
METHOD:PUBLISH
X-PUBLISHED-TTL:P3D
REFRESH-INTERVAL:P3D
CALSCALE:GREGORIAN
BEGIN:VEVENT
DTSTART:20090917T220000Z
DTEND:20090918T000000Z
X-MICROSOFT-CDO-ALLDAYEVENT:FALSE
SUMMARY:2009 Sep * Grand Opening/Relocation @ MGR Personnel
DESCRIPTION:MGR PERSONNEL901 NE Loop 401\, Suite 425\, 78209Thursday September 17\, 2009RIBBON CUTTING @ 5:00 p.m.CONTACT: Mark Goldman @ 826-8000CHAMBER CONTACT: Samantha Collins @ 364-1581 cellDIRECTIONS: 281 S to 410 East exit. Take the Nacogdoches turnaround and stay on the access road. The company is in the SACU building - fourth floor. Food & Refreshments will be served. MGR Personnel is a personnel consulting firm specializing in the area of candidate identification\, screening\, and recruitment.   Whether assisting a top employer in locating the talent needed for their key position\, or working with a candidate to locate the right opportunity that will help them reach their career goals\, we consistently focus on maintaining a quality long-term relationship with all parties involved. We realize that only through quality long-term relationships will our organization reach the level of success to which we strive.
X-ALT-DESC;FMTTYPE=text/html:<P>MGR PERSONNEL</P><P>901 NE Loop 401\, Suite 425\, 78209</P><P>Thursday September 17\, 2009</P><P>RIBBON CUTTING @ 5:00 p.m.</P><P>CONTACT: Mark Goldman @ 826-8000</P><P>CHAMBER CONTACT: Samantha Collins @ 364-1581 cell</P><P>DIRECTIONS: 281 S to 410 East exit. Take the Nacogdoches turnaround and stay on the access road. The company is in the SACU building - fourth floor. </P><P>Food &amp\; Refreshments will be served. </P><P class=MsoNormal style="MARGIN: 0in 0in 0pt"><I style="mso-bidi-font-style: normal"><SPAN style="FONT-WEIGHT: normal">MGR Personnel is a personnel consulting firm specializing in the area of candidate identification\, screening\, and recruitment. <?xml:namespace prefix = o ns = "urn:schemas-microsoft-com:office:office" /><o:p></o:p></SPAN></I></P><P class=MsoNormal style="MARGIN: 0in 0in 0pt"><I style="mso-bidi-font-style: normal"><SPAN style="FONT-WEIGHT: normal">&nbsp\; <o:p></o:p></SPAN></I></P><P class=MsoNormal style="MARGIN: 0in 0in 0pt"><I style="mso-bidi-font-style: normal"><SPAN style="FONT-WEIGHT: normal">Whether assisting a top employer in locating the talent needed for their key position\, or working with a candidate to locate the right opportunity that will help them reach their career goals\, we consistently focus on maintaining a quality long-term relationship with all parties involved. We realize that only through quality long-term relationships will our organization reach the level of success to which we strive.<o:p></o:p></SPAN></I></P><P>&nbsp\;</P>
LOCATION:MGR Personnel
UID:e.2020.649
SEQUENCE:3
DTSTAMP:20260424T210808Z
URL:https://members.metrosa.com/events/details/2009-sep-grand-opening-relocation-mgr-personnel-09-17-2009-649
END:VEVENT

END:VCALENDAR
