BEGIN:VCALENDAR
VERSION:2.0
PRODID:-//ChamberMaster//Event Calendar 2.0//EN
METHOD:PUBLISH
X-PUBLISHED-TTL:P3D
REFRESH-INTERVAL:P3D
CALSCALE:GREGORIAN
BEGIN:VEVENT
DTSTART:20090909T213000Z
DTEND:20090910T003000Z
X-MICROSOFT-CDO-ALLDAYEVENT:FALSE
SUMMARY:2009 Sep Ribbon Cutting @ Four Points at Sheraton SA NW
DESCRIPTION:
X-ALT-DESC;FMTTYPE=text/html:
LOCATION:Four Points by Sheraton SA NW
UID:e.2020.650
SEQUENCE:3
DTSTAMP:20260424T210846Z
URL:https://members.metrosa.com/events/details/2009-sep-ribbon-cutting-four-points-at-sheraton-sa-nw-09-09-2009-650
END:VEVENT

END:VCALENDAR
