BEGIN:VCALENDAR
VERSION:2.0
PRODID:-//ChamberMaster//Event Calendar 2.0//EN
METHOD:PUBLISH
X-PUBLISHED-TTL:P3D
REFRESH-INTERVAL:P3D
CALSCALE:GREGORIAN
BEGIN:VEVENT
DTSTART:20090917T163000Z
DTEND:20090917T180000Z
X-MICROSOFT-CDO-ALLDAYEVENT:FALSE
SUMMARY:2009 September Ambassador Lunch Meeting
DESCRIPTION:MENU: (1) Asian Steak Salad: Tender slices of Teriyaki Glazed Sirloin served with Enoki Mushrooms\, Snap Peas\, Fresh Ginger and Bok Choy. (2) Monterrey Chicken Sandwich: Citrus Grilled Chicken topped with sliced Avocado & Pepper Jack Cheese. (3) Chicken Fried Steak: Tender steak with homemade mashed potatoes\, sausage and black pepper gravy and a buttered corn cobette. (4) Salmon BLT: Citrus Seared Salmon with bacon\, lettuce\, tomato\, topped with Cilantro Lime Mayo\, served on Sourdough Bread. Dessert: Strawberry Short Cake
X-ALT-DESC;FMTTYPE=text/html:<P><STRONG>MENU:</STRONG> </P><P><STRONG>(1) Asian Steak Salad:</STRONG> Tender slices of Teriyaki Glazed Sirloin served with Enoki Mushrooms\, Snap Peas\, Fresh Ginger and Bok Choy. </P><P><STRONG>(2) Monterrey Chicken Sandwich:</STRONG> Citrus Grilled Chicken topped with sliced Avocado &amp\; Pepper Jack Cheese. </P><P><STRONG>(3) Chicken Fried Steak:</STRONG> Tender steak with homemade mashed potatoes\, sausage and black pepper gravy and a buttered corn cobette.</P><P><STRONG>&nbsp\;(4) Salmon BLT:</STRONG> Citrus Seared Salmon with bacon\, lettuce\, tomato\, topped with Cilantro Lime Mayo\, served on Sourdough Bread. </P><P><STRONG>Dessert: Strawberry Short Cake</STRONG></P>
LOCATION:Crowne Plaza San Antonio Airport Hotel
UID:e.2020.603
SEQUENCE:3
DTSTAMP:20260424T210702Z
URL:https://members.metrosa.com/events/details/2009-september-ambassador-lunch-meeting-09-17-2009-603
END:VEVENT

END:VCALENDAR
