BEGIN:VCALENDAR
VERSION:2.0
PRODID:-//ChamberMaster//Event Calendar 2.0//EN
METHOD:PUBLISH
X-PUBLISHED-TTL:P3D
REFRESH-INTERVAL:P3D
CALSCALE:GREGORIAN
BEGIN:VEVENT
DTSTART:20100415T163000Z
DTEND:20100415T180000Z
X-MICROSOFT-CDO-ALLDAYEVENT:FALSE
SUMMARY:2010 April Ambassador's Lunch Meeting
DESCRIPTION:MENU: Chicken Pasta Primo\, Foccacia Bread\, Side Car Salad\, Iced Tea and Jason's Water Lunch will be Catered by Jason's Deli
X-ALT-DESC;FMTTYPE=text/html:<P><STRONG><FONT size=4>MENU: Chicken Pasta Primo\, Foccacia Bread\, Side Car Salad\, Iced Tea and Jason's Water </FONT></STRONG></P><P><STRONG><EM><FONT size=4>Lunch will be Catered by Jason's Deli</FONT></EM></STRONG></P>
LOCATION:Springhill Suites SA Airport
UID:e.2020.751
SEQUENCE:3
DTSTAMP:20260424T112308Z
URL:https://members.metrosa.com/events/details/2010-april-ambassador-s-lunch-meeting-04-15-2010-751
END:VEVENT

END:VCALENDAR
