BEGIN:VCALENDAR
VERSION:2.0
PRODID:-//ChamberMaster//Event Calendar 2.0//EN
METHOD:PUBLISH
X-PUBLISHED-TTL:P3D
REFRESH-INTERVAL:P3D
CALSCALE:GREGORIAN
BEGIN:VEVENT
DTSTART:20100322T130000Z
DTEND:20100503T220000Z
X-MICROSOFT-CDO-ALLDAYEVENT:FALSE
SUMMARY:2010 Enterprising Women's Conference - CALL FOR NOMINATIONS
DESCRIPTION:Call for Nominations!  Deadline for the ATHENA Award & ATHENA Organizational Leadership Award is Monday\, May 3rd\, 5:00pm.  To download the ATHENA Award nomination form and to read about the criteria\, click here . To download the ATHENA Organizational Leadership Award and to read about the criteria\, click here .
X-ALT-DESC;FMTTYPE=text/html:<DIV>Call for Nominations! </DIV><DIV>&nbsp\;</DIV><DIV>Deadline for the ATHENA Award &amp\; ATHENA Organizational Leadership Award is&nbsp\;Monday\, May 3rd\, 5:00pm. </DIV><DIV>&nbsp\;</DIV><DIV>To download the ATHENA Award nomination form and to read about the criteria\, <A dataFld=0:0 href="http://www.northsachamber.com/media/pdf/athena_app_form.pdf">click here</A>&nbsp\;.</DIV><DIV>&nbsp\;</DIV><DIV>To download the ATHENA Organizational Leadership Award and to read about the criteria\, <A dataFld=0:0 href="http://www.northsachamber.com/media/pdf/athena_ola_form.pdf">click here</A>&nbsp\;.</DIV><SPAN style="FONT-SIZE: 13pt\; FONT-FAMILY: 'Arial Narrow'\; mso-fareast-font-family: 'Times New Roman'\; mso-bidi-font-family: 'Times New Roman'\; mso-ansi-language: EN-US\; mso-fareast-language: EN-US\; mso-bidi-language: AR-SA"></SPAN>
LOCATION:North Chamber
UID:e.2020.756
SEQUENCE:3
DTSTAMP:20260424T101033Z
URL:https://members.metrosa.com/events/details/2010-enterprising-women-s-conference-call-for-nominations-03-22-2010-756
END:VEVENT

END:VCALENDAR
