BEGIN:VCALENDAR
VERSION:2.0
PRODID:-//ChamberMaster//Event Calendar 2.0//EN
METHOD:PUBLISH
X-PUBLISHED-TTL:P3D
REFRESH-INTERVAL:P3D
CALSCALE:GREGORIAN
BEGIN:VEVENT
DTSTART:20100203T230000Z
DTEND:20100204T000000Z
X-MICROSOFT-CDO-ALLDAYEVENT:FALSE
SUMMARY:2010 FEB * GRAND OPENING @ St. Luke's Baptist Hospital New M
DESCRIPTION:ST. LUKE'S BAPTIST HOSPITALOpening of New Medical Unit7930 Floyd Curl Drive\, 78219Wednesday February 3\, 2010RIBBON CUTTING @ 5:00 P.M.CONTACT: Lana White @ 297-5994 or Patti Turner @ 223-2772 x195CHAMBER CONTACT: Samantha Collins @ 364-1581cellDIRECTIONS: http://www.baptisthealthsystem.com Enter building on the first floor. Hospital Volunteers will direct you to Ribbon Cutting location. Food & Beverages servedLocated in the South Texas Medical Center\, St. Luke's Baptist Hospital includes a beautiful women’s center with all private rooms for new mothers\, surgical services\, orthopedics\, rehabilitation and more.Features of St. Luke's Baptist Hospital: Accredited Chest Pain Center designation by the Society of Chest Pain Centers Women's center with private rooms for new moms Level III Neonatal intensive care unit Healthy Women's Center and Free Pregnancy Testing Robotically assisted surgery The Joint Club\, an educational and treatment program\, which helps patients prepare for and recover from orthopedic surgery.
X-ALT-DESC;FMTTYPE=text/html:<P>ST. LUKE'S BAPTIST HOSPITAL</P><P>Opening of New Medical Unit</P><P>7930 Floyd Curl Drive\, 78219</P><P>Wednesday February 3\, 2010</P><P>RIBBON CUTTING @ 5:00 P.M.</P><P>CONTACT: Lana White @ 297-5994 or Patti Turner @ 223-2772 x195</P><P>CHAMBER CONTACT: Samantha Collins @ 364-1581cell</P><P>DIRECTIONS: <A href="http://www.baptisthealthsystem.com">http://www.baptisthealthsystem.com</A> </P><P>Enter building on the first floor. Hospital Volunteers will direct you to Ribbon Cutting location. </P><P>Food &amp\; Beverages served</P><P>Located in the South Texas Medical Center\, St. Luke's Baptist Hospital includes a beautiful women’s center with all private rooms for new mothers\, surgical services\, orthopedics\, rehabilitation and more.Features of St. Luke's Baptist Hospital: Accredited Chest Pain Center designation by the Society of Chest Pain Centers Women's center with private rooms for new moms Level III Neonatal intensive care unit Healthy Women's Center and Free Pregnancy Testing Robotically assisted surgery The Joint Club\, an educational and treatment program\, which helps patients prepare for and recover from orthopedic surgery.</P>
LOCATION:St. Luke's Baptist Hospital New Medical Unit
UID:e.2020.729
SEQUENCE:3
DTSTAMP:20260424T140453Z
URL:https://members.metrosa.com/events/details/2010-feb-grand-opening-st-luke-s-baptist-hospital-new-m-02-03-2010-729
END:VEVENT

END:VCALENDAR
