BEGIN:VCALENDAR
VERSION:2.0
PRODID:-//ChamberMaster//Event Calendar 2.0//EN
METHOD:PUBLISH
X-PUBLISHED-TTL:P3D
REFRESH-INTERVAL:P3D
CALSCALE:GREGORIAN
BEGIN:VEVENT
DTSTART:20100219T223000Z
DTEND:20100220T003000Z
X-MICROSOFT-CDO-ALLDAYEVENT:FALSE
SUMMARY:2010 FEB * GRAND OPENING @ The Bank of San Antonio
DESCRIPTION:THE BANK OF SAN ANTONIO888 Isom Road\, Suite 100\, 78216Friday February 19\, 2010RIBBON CUTTING @ 4:30 p.m.CONTACT: Stephanie Dick @ 744-4396/807-5561CHAMBER CONTACT: Samantha Collins @ 384-7726DIRECTIONS: Map to location is at the North Chamber website in the Calendar of Events. Scroll down to this event and open. Food and Refreshments will be served. We are The Bank of San Antonio\, a strong business bank committed to delivering creative\, flexible financial solutions\, superior service\, and value to our clients. We want to be your partner in meeting financial challenges and seizing promising opportunities. Look to us for reliable advice and an insightful\, proactive approach to San Antonio's business needs.
X-ALT-DESC;FMTTYPE=text/html:<P>THE BANK OF SAN ANTONIO</P><P>888 Isom Road\, Suite 100\, 78216</P><P>Friday February 19\, 2010</P><P>RIBBON CUTTING @ 4:30 p.m.</P><P>CONTACT: Stephanie Dick @ 744-4396/807-5561</P><P>CHAMBER CONTACT: Samantha Collins @ 384-7726</P><P>DIRECTIONS: Map to location is at the North Chamber website in the Calendar of Events. Scroll down to this event and open. </P><P>Food and Refreshments will be served. </P><P><EM>We are The Bank of San Antonio\, a strong business bank committed to delivering creative\, flexible financial solutions\, superior service\, and value to our clients. We want to be your partner in meeting financial challenges and seizing promising opportunities. Look to us for reliable advice and an insightful\, proactive approach to San Antonio's business needs.</EM></P>
LOCATION:The Bank of San Antonio
UID:e.2020.731
SEQUENCE:3
DTSTAMP:20260424T140509Z
URL:https://members.metrosa.com/events/details/2010-feb-grand-opening-the-bank-of-san-antonio-02-19-2010-731
END:VEVENT

END:VCALENDAR
