BEGIN:VCALENDAR
VERSION:2.0
PRODID:-//ChamberMaster//Event Calendar 2.0//EN
METHOD:PUBLISH
X-PUBLISHED-TTL:P3D
REFRESH-INTERVAL:P3D
CALSCALE:GREGORIAN
BEGIN:VEVENT
DTSTART:20100225T131500Z
DTEND:20100225T150000Z
X-MICROSOFT-CDO-ALLDAYEVENT:FALSE
SUMMARY:2010 February CIO Breakfast
DESCRIPTION:Note:  If you are not currently subscribed to CIO Breakfast information\, please contact Debby Zucker before registering - 210.344.4848.  Thank you Cash is King.  Keeping pace with client demand during difficult economic times is certainly challenging\, especially when you’re being asked to cut budgets and operating expenses.  Our distinguished panel of quests will facilitate a very interactive discussion on this timely topic.   Panelists:  Michiel Espach\, CIO\, Tesoro\; Don Bonacci\, CIO\, WellMed Medical Management
X-ALT-DESC;FMTTYPE=text/html:<P><FONT face=Arial color=#ff0000 size=2><EM>Note:&nbsp\; If you are not currently subscribed to CIO Breakfast information\, please contact Debby Zucker before registering - 210.344.4848.&nbsp\; Thank you</EM></FONT></P><P><EM><FONT face=Arial color=#ff0000 size=2></FONT></EM>&nbsp\;</P><P class=MsoPlainText style="MARGIN: 0in 0in 0pt"><I><SPAN style="FONT-SIZE: 14pt\; FONT-FAMILY: 'Times New Roman'">Cash is King.</SPAN></I><SPAN style="FONT-SIZE: 14pt\; FONT-FAMILY: 'Times New Roman'"> &nbsp\;Keeping pace with client demand during difficult economic times is certainly challenging\, especially when you’re being asked to cut budgets and operating expenses.&nbsp\; Our distinguished panel of quests will facilitate a very interactive discussion on this timely topic.&nbsp\; </SPAN></P><P class=MsoPlainText style="MARGIN: 0in 0in 0pt"><SPAN style="FONT-SIZE: 14pt\; FONT-FAMILY: 'Times New Roman'"></SPAN>&nbsp\;</P><P class=MsoPlainText style="MARGIN: 0in 0in 0pt"><SPAN style="FONT-SIZE: 14pt\; FONT-FAMILY: 'Times New Roman'">Panelists:&nbsp\; Michiel Espach\, CIO\, Tesoro\; Don Bonacci\, CIO\, WellMed Medical Management</SPAN></P><P class=MsoPlainText style="MARGIN: 0in 0in 0pt"><SPAN style="FONT-SIZE: 14pt\; FONT-FAMILY: 'Times New Roman'"></SPAN>&nbsp\;</P><P class=MsoNormal><?xml:namespace prefix = o ns = "urn:schemas-microsoft-com:office:office" /><o:p></o:p>&nbsp\;</P>
LOCATION:Tesoro Corporation
UID:e.2020.725
SEQUENCE:3
DTSTAMP:20260424T140226Z
URL:https://members.metrosa.com/events/details/2010-february-cio-breakfast-02-25-2010-725
END:VEVENT

END:VCALENDAR
