BEGIN:VCALENDAR
VERSION:2.0
PRODID:-//ChamberMaster//Event Calendar 2.0//EN
METHOD:PUBLISH
X-PUBLISHED-TTL:P3D
REFRESH-INTERVAL:P3D
CALSCALE:GREGORIAN
BEGIN:VEVENT
DTSTART:20100122T060000Z
DTEND:20100122T060000Z
X-MICROSOFT-CDO-ALLDAYEVENT:FALSE
SUMMARY:2010 JAN CANCELLED****JW Marriott Hotel and Spa
DESCRIPTION:JW MARRIOTT HOTEL & SPA23808 Resort Parkway\, 78261 FRIDAY January 22\, 2010RIBBON CUTTING @ TBDCONTACT: Petro Lemmen @ 403-3434CHAMBER CONTACT: Samantha Collins @ 384-7726DIRECTIONS: 281N about 2 miles past 1604. Turn right at Stone Oak Pkwy/TPC Pkwy travel forward about 2 miles. Enter the Cibolo Canyon subdivision and the Resort will be on your left. Turn left on to Resort Parkway. Food & Refreshments will be served. JW Marriott San Antonio Hill Country Resort & Spa opening January 22\, 2010. Just 20 minutes from downtown San Antonio and the airport\, the JW Marriott Resort will be situated in Texas Hill Country in Cibolo Canyons\, where crystal clear streams and towering oak and cedar trees meet the majesty of the hills. The elements of authentic roots\, hacienda style\, beautiful views and healing waters serve as the inspiration in bringing this magnificent resort to life. The Hill Country resort will feature 140\,000-square-feet of meeting space\, two TPC golf courses and a sophisticated spa.
X-ALT-DESC;FMTTYPE=text/html:<P>JW MARRIOTT HOTEL &amp\; SPA</P><P>23808 Resort Parkway\, 78261 </P><P>FRIDAY January 22\, 2010</P><P><STRONG><U>RIBBON CUTTING @ TBD</U></STRONG></P><P>CONTACT: Petro Lemmen @ 403-3434</P><P>CHAMBER CONTACT: Samantha Collins @ 384-7726</P><P>DIRECTIONS: 281N about 2 miles past 1604. Turn right at Stone Oak Pkwy/TPC Pkwy travel forward about 2 miles. Enter the Cibolo Canyon subdivision and the Resort will be on your left. Turn left on to Resort Parkway. </P><P>Food &amp\; Refreshments will be served. </P><P><STRONG><EM>JW Marriott San Antonio Hill Country Resort &amp\; Spa opening January 22\, 2010. Just 20 minutes from downtown San Antonio and the airport\, the JW Marriott Resort will be situated in Texas Hill Country in Cibolo Canyons\, where crystal clear streams and towering oak and cedar trees meet the majesty of the hills. The elements of authentic roots\, hacienda style\, beautiful views and healing waters serve as the inspiration in bringing this magnificent resort to life. The Hill Country resort will feature 140\,000-square-feet of meeting space\, two TPC golf courses and a sophisticated spa.</EM></STRONG></P>
LOCATION:J W Marriott Hotel and Spa
UID:e.2020.714
SEQUENCE:3
DTSTAMP:20260424T153037Z
URL:https://members.metrosa.com/events/details/2010-jan-cancelled-jw-marriott-hotel-and-spa-01-22-2010-714
END:VEVENT

END:VCALENDAR
