BEGIN:VCALENDAR
VERSION:2.0
PRODID:-//ChamberMaster//Event Calendar 2.0//EN
METHOD:PUBLISH
X-PUBLISHED-TTL:P3D
REFRESH-INTERVAL:P3D
CALSCALE:GREGORIAN
BEGIN:VEVENT
DTSTART:20100123T060000Z
DTEND:20100123T060000Z
X-MICROSOFT-CDO-ALLDAYEVENT:FALSE
SUMMARY:2010 January Gala * ELECTED OFFICIALS
DESCRIPTION:2010 January Gala * ELECTED OFFICIALS
X-ALT-DESC;FMTTYPE=text/html:2010 January Gala * ELECTED OFFICIALS
LOCATION:Marriott Rivercenter Hotel
UID:e.2020.2245
SEQUENCE:3
DTSTAMP:20260424T152251Z
URL:https://members.metrosa.com/events/details/2010-january-gala-elected-officials-01-23-2010-2245
END:VEVENT

END:VCALENDAR
