BEGIN:VCALENDAR
VERSION:2.0
PRODID:-//ChamberMaster//Event Calendar 2.0//EN
METHOD:PUBLISH
X-PUBLISHED-TTL:P3D
REFRESH-INTERVAL:P3D
CALSCALE:GREGORIAN
BEGIN:VEVENT
DTSTART:20100123T140000Z
DTEND:20100123T230000Z
X-MICROSOFT-CDO-ALLDAYEVENT:FALSE
SUMMARY:2010 January Gala * PRIZE TICKET
DESCRIPTION:
X-ALT-DESC;FMTTYPE=text/html:
LOCATION:Prize Ticket
UID:e.2020.681
SEQUENCE:3
DTSTAMP:20260424T152936Z
URL:https://members.metrosa.com/events/details/2010-january-gala-prize-ticket-01-23-2010-681
END:VEVENT

END:VCALENDAR
