BEGIN:VCALENDAR
VERSION:2.0
PRODID:-//ChamberMaster//Event Calendar 2.0//EN
METHOD:PUBLISH
X-PUBLISHED-TTL:P3D
REFRESH-INTERVAL:P3D
CALSCALE:GREGORIAN
BEGIN:VEVENT
DTSTART:20100715T163000Z
DTEND:20100715T180000Z
X-MICROSOFT-CDO-ALLDAYEVENT:FALSE
SUMMARY:2010 July Ambassador Lunch Meeting
DESCRIPTION:DATE & TIME: THURSDAY July 15\, 2010 11:00 Networking/Registration 11:30 Serving Lunch 1:00 p.m. Meeting adjourned LOCATION: HYATT PLACE SAN ANTONIO NORTH/ STONE OAK 1st Floor Main Conference Room 1610 East Sonterra Blvd. 78258Directions call 545-2810 and map on chamber website MENU: Entree: Hamburgers\, Chicken Breast\, White & Wheat Rolls\, American\, Cheddar\, Swiss Cheese Slices\, Chips\, Lettuce\, Tomato\, Onion Slices\, Pickles\, Bourbon BBQ Sauce\, Habanero Ketchup\, Chipotle Mayo\, Ketchup\, Mustard\, Mayo\, Jalapenos\, House Salad with Ranch & Balsamic Dressings. Dessert: Cookies and BrowniesCatered by Gourmet Burger Grill  PRICE: $14 All-inclusive RSVP'S: DEADLINE IS MONDAY - July 12\, 2010 - NOON WITH PAYMENT FOR YOUR TEAM'S EXTRA 300 POINTS. Registration goes off website midnight Tuesday July13\, 2010. After deadline you may call the Chamber and register with your credit card 344-4848.
X-ALT-DESC;FMTTYPE=text/html:<P><FONT face=Courier><STRONG>DATE &amp\; TIME: </STRONG></FONT></P><P><FONT face=Courier><STRONG>THURSDAY July 15\, 2010 </STRONG></FONT></P><P><FONT face=Courier><STRONG>11:00 Networking/Registration </STRONG></FONT></P><P><FONT face=Courier><STRONG>11:30 Serving Lunch </STRONG></FONT></P><P><FONT face=Courier><STRONG>1:00 p.m. Meeting adjourned </STRONG></FONT></P><P><FONT face=Courier><STRONG>LOCATION: HYATT PLACE SAN ANTONIO NORTH/ STONE OAK </STRONG></FONT></P><P><FONT face=Courier><STRONG></STRONG></FONT><P><FONT face=Courier><STRONG>1st Floor Main Conference Room </STRONG></FONT></P><P><FONT face=Courier><STRONG>1610 East Sonterra Blvd. 78258</STRONG></FONT></P><P><FONT face=Courier><STRONG>Directions call 545-2810 and map on chamber website </STRONG></FONT></P><P><FONT face=Courier><STRONG></STRONG></FONT></P><P><FONT face=Courier><STRONG>MENU: <SPAN>Entree: Hamburgers\, Chicken Breast\, White &amp\; Wheat Rolls\, American\, Cheddar\, Swiss Cheese Slices\, Chips\, Lettuce\, Tomato\, Onion Slices\, Pickles\, Bourbon BBQ Sauce\, Habanero Ketchup\, Chipotle Mayo\, Ketchup\, Mustard\, Mayo\, Jalapenos\, House Salad with Ranch &amp\; Balsamic Dressings. </SPAN><SPAN style="FONT-SIZE: 12pt">Dessert: Cookies and Brownies</SPAN></STRONG></FONT></P><P><SPAN style="FONT-SIZE: 12pt"></SPAN><FONT face=Courier><STRONG><SPAN style="FONT-SIZE: 12pt">Catered by <I style="mso-bidi-font-style: normal"><U>Gourmet Burger Grill</U></I>&nbsp\;</SPAN> </STRONG></FONT></P><P><FONT face=Courier><STRONG></STRONG></FONT><P><FONT face=Courier><STRONG>PRICE: $14 All-inclusive </STRONG></FONT></P><P><FONT face=Courier><STRONG>RSVP'S: DEADLINE IS MONDAY - July 12\, 2010 - NOON WITH PAYMENT FOR YOUR TEAM'S EXTRA 300 POINTS. </STRONG></FONT></P><P><FONT face=Courier><STRONG>Registration goes off website midnight Tuesday July13\, 2010. After deadline you may call the Chamber and register with your credit card 344-4848.</STRONG></FONT> </P><P></P>
LOCATION:Hyatt Place San Antonio North/Stone Oak
UID:e.2020.763
SEQUENCE:3
DTSTAMP:20260424T073537Z
URL:https://members.metrosa.com/events/details/2010-july-ambassador-lunch-meeting-07-15-2010-763
END:VEVENT

END:VCALENDAR
