BEGIN:VCALENDAR
VERSION:2.0
PRODID:-//ChamberMaster//Event Calendar 2.0//EN
METHOD:PUBLISH
X-PUBLISHED-TTL:P3D
REFRESH-INTERVAL:P3D
CALSCALE:GREGORIAN
BEGIN:VEVENT
DTSTART:20100611T121500Z
DTEND:20100611T140000Z
X-MICROSOFT-CDO-ALLDAYEVENT:FALSE
SUMMARY:2010 June*CC Breakfast*The Economy: Crisis\, Response & Recov
DESCRIPTION:
X-ALT-DESC;FMTTYPE=text/html:<DIV style="FONT-FAMILY: Arial">&nbsp\;</DIV>
LOCATION:Petroleum Club
UID:e.2020.770
SEQUENCE:3
DTSTAMP:20260424T085027Z
URL:https://members.metrosa.com/events/details/2010-june-cc-breakfast-the-economy-crisis-response-recov-06-11-2010-770
END:VEVENT

END:VCALENDAR
