BEGIN:VCALENDAR
VERSION:2.0
PRODID:-//ChamberMaster//Event Calendar 2.0//EN
METHOD:PUBLISH
X-PUBLISHED-TTL:P3D
REFRESH-INTERVAL:P3D
CALSCALE:GREGORIAN
BEGIN:VEVENT
DTSTART:20100622T213000Z
DTEND:20100622T233000Z
X-MICROSOFT-CDO-ALLDAYEVENT:FALSE
SUMMARY:2010 June GRAND OPENING @ Comfort Suites near UTHealth Scien
DESCRIPTION:COMFORT SUITES/ UT HEALTH SCIENCE CENTER5130 Vantage Way\, 78249Tuesday June 22\, 2010RIBBON CUTTING @ 4:30 p.m.CONTACT: Kevin Brinneman @ 589-4780CHAMBER CONTACT: Samantha Collins @ 384-7726DIRECTIONS: www.choicehotels.com/hotels/txc48 Food and Refreshments will be served. The Comfort Suites® Near UT Health Science Center hotel is ideally located in the heart of northern San Antonio\, providing easy access to many popular Texas attractions.
X-ALT-DESC;FMTTYPE=text/html:<P>COMFORT SUITES/ UT HEALTH SCIENCE CENTER</P><P>5130 Vantage Way\, 78249</P><P>Tuesday June 22\, 2010</P><P>RIBBON CUTTING @ 4:30 p.m.</P><P>CONTACT: Kevin Brinneman @ 589-4780</P><P>CHAMBER CONTACT: Samantha Collins @ 384-7726</P><P>DIRECTIONS: <A href="http://www.choicehotels.com/hotels/txc48">www.choicehotels.com/hotels/txc48</A> </P><P>Food and Refreshments will be served. </P><P><EM>The Comfort Suites® Near UT Health Science Center hotel is ideally located in the heart of northern San Antonio\, providing easy access to many popular Texas attractions.</EM></P>
LOCATION:Comfort Suites/ UTHSC
UID:e.2020.774
SEQUENCE:3
DTSTAMP:20260424T085353Z
URL:https://members.metrosa.com/events/details/2010-june-grand-opening-comfort-suites-near-uthealth-scien-06-22-2010-774
END:VEVENT

END:VCALENDAR
