BEGIN:VCALENDAR
VERSION:2.0
PRODID:-//ChamberMaster//Event Calendar 2.0//EN
METHOD:PUBLISH
X-PUBLISHED-TTL:P3D
REFRESH-INTERVAL:P3D
CALSCALE:GREGORIAN
BEGIN:VEVENT
DTSTART:20100623T213000Z
DTEND:20100623T233000Z
X-MICROSOFT-CDO-ALLDAYEVENT:FALSE
SUMMARY:2010 June GRAND OPENING @ SpringHill Suites SeaWorld
DESCRIPTION:SPRINGHILL SUITES SEAWORLD138 Richland Hills Drive\, 78245 Wednesday June 23\, 2010RIBBON CUTTING @ 4:30 p.m.CONTACT: Lorretta Mendoza @340-9991CHAMBER CONTACT: Samantha Collins @ 384-7726DIRECTIONS: Travel Loop 410 West exit 9A/ TX 151/ SeaWorld. Stay on access road and turn right on to Richland Hills Drive. Food and refreshments served.Choose SpringHill Suites for San Antonio\, Texas hotel accommodations near Sea World San Antonio. SpringHill Suites offers upscale hotel accommodations with luxury amenities for weekend getaways\, family vacations and business travel in San Antonio\, TX. Experience tue southern hospitality with our complete menu of hotel features\, 116 modern suite rooms\, and friendly\, welcoming staff. With a variety of value-added amenities and a central San Antonio location near Sea World and other top area attractions\, SpringHill Suites ensures a comfortable and relaxing stay in San Antonio\, Texas.
X-ALT-DESC;FMTTYPE=text/html:<P>SPRINGHILL SUITES SEAWORLD</P><P>138 Richland Hills Drive\, 78245 </P><P>Wednesday June 23\, 2010</P><P>RIBBON CUTTING @ 4:30 p.m.</P><P>CONTACT: Lorretta Mendoza @340-9991</P><P>CHAMBER CONTACT: Samantha Collins @ 384-7726</P><P>DIRECTIONS: Travel Loop 410 West exit 9A/ TX 151/ SeaWorld. Stay on access road and turn right on to Richland Hills Drive. </P><P>Food and refreshments served.</P><P><EM>Choose SpringHill Suites for San Antonio\, Texas hotel accommodations near Sea World San Antonio. SpringHill Suites offers upscale hotel accommodations with luxury amenities for weekend getaways\, family vacations and business travel in San Antonio\, TX. Experience tue southern hospitality with our complete menu of hotel features\, 116 modern suite rooms\, and friendly\, welcoming staff. With a variety of value-added amenities and a central San Antonio location near Sea World and other top area attractions\, SpringHill Suites ensures a comfortable and relaxing stay in San Antonio\, Texas.</EM></P>
LOCATION:SpringHill Suites SeaWorld
UID:e.2020.775
SEQUENCE:3
DTSTAMP:20260424T084925Z
URL:https://members.metrosa.com/events/details/2010-june-grand-opening-springhill-suites-seaworld-06-23-2010-775
END:VEVENT

END:VCALENDAR
