BEGIN:VCALENDAR
VERSION:2.0
PRODID:-//ChamberMaster//Event Calendar 2.0//EN
METHOD:PUBLISH
X-PUBLISHED-TTL:P3D
REFRESH-INTERVAL:P3D
CALSCALE:GREGORIAN
BEGIN:VEVENT
DTSTART:20100610T170000Z
DTEND:20100610T190000Z
X-MICROSOFT-CDO-ALLDAYEVENT:FALSE
SUMMARY:2010 June GRAND OPENING @ Submarina California Subs
DESCRIPTION:SUBMARINA CALIFORNIA SUBS5619 West Loop 1604 North\, Suite 103\, 78253Thursday June 10\, 2010RIBBON CUTTING @ 12:00 p.m.CONTACT: Sugeid Rendon @ 667-8867CHAMBER CONTACT: Samantha Collins @ 384-7726DIRECTIONS: Travel 1604 West exit Culebra stay on access road past Culebra Road intersection the restaurant is on the right. http://www.submarina.com/Food and Refreshments will be served. When Submarina founders Les Warfield and Ron Vickers moved to San Diego in 1976\, one of the first things they did was try to find a sub-sandwich shop. The sunny days in San Diego were enough to lure the two U.S. Postal Service workers from Reno\, Nevada\, however it wasn't long before they missed one of their favorite work-day lunch stops. As their sandwich search continued in San Diego without success\, they started talking about opening their own shop. How hard could it be? As Warfield said\, "We had no experience\, no capital and by every rule of business we should have failed. We didn't know an avocado from prosciutto\, but we were willing to learn."
X-ALT-DESC;FMTTYPE=text/html:<P><STRONG>SUBMARINA CALIFORNIA SUBS</STRONG></P><P><STRONG>5619 West Loop 1604 North\, Suite 103\, 78253</STRONG></P><P><STRONG>Thursday June 10\, 2010</STRONG></P><P><STRONG>RIBBON CUTTING @ 12:00 p.m.</STRONG></P><P><STRONG>CONTACT: Sugeid Rendon @ 667-8867</STRONG></P><P><STRONG>CHAMBER CONTACT: Samantha Collins @ 384-7726</STRONG></P><P><STRONG>DIRECTIONS: Travel 1604 West exit Culebra stay on access road past Culebra Road intersection the restaurant is on the right. </STRONG><A href="http://www.submarina.com/"><STRONG>http://www.submarina.com/</STRONG></A></P><P><STRONG>Food and Refreshments will be served.</STRONG> </P><P><EM><STRONG>When Submarina founders Les Warfield and Ron Vickers moved to San Diego in 1976\, one of the first things they did was try to find a sub-sandwich shop. The sunny days in San Diego were enough to lure the two U.S. Postal Service workers from Reno\, Nevada\, however it wasn't long before they missed one of their favorite work-day lunch stops. As their sandwich search continued in San Diego without success\, they started talking about opening their own shop. How hard could it be? As Warfield said\, "We had no experience\, no capital and by every rule of business we should have failed. We didn't know an avocado from prosciutto\, but we were willing to learn."</STRONG></EM></P>
LOCATION:Submarina California Subs
UID:e.2020.776
SEQUENCE:3
DTSTAMP:20260424T085129Z
URL:https://members.metrosa.com/events/details/2010-june-grand-opening-submarina-california-subs-06-10-2010-776
END:VEVENT

END:VCALENDAR
