BEGIN:VCALENDAR
VERSION:2.0
PRODID:-//ChamberMaster//Event Calendar 2.0//EN
METHOD:PUBLISH
X-PUBLISHED-TTL:P3D
REFRESH-INTERVAL:P3D
CALSCALE:GREGORIAN
BEGIN:VEVENT
DTSTART:20100617T220000Z
DTEND:20100618T000000Z
X-MICROSOFT-CDO-ALLDAYEVENT:FALSE
SUMMARY:2010 June RIBBON CUTTING @ HomeCorp Relocation
DESCRIPTION:Host: Sharon PfefferLocation: Paesanos 1604 3622 Paesanos Parkway San Antonio\, TX 78231When: Thursday\, June 17\, 2010 5:00 p.m.Phone: (210) 494-0090Join us for a special night as we embark on our new Business Alliance between United Apartment Group and HomeCorp Relocation5:00 - 6:00 Welcome to UAG Executive Members\, District Managers and Property Managers and Ribbon Cutting with the North San Antonio Chamber of Commerce. 6:00 - 8:00 Property Staff's to arriveInvocation by Father Kevin ShanahanBuffet Dinner and Unveiling of new program
X-ALT-DESC;FMTTYPE=text/html:<P><STRONG>Host: Sharon Pfeffer</STRONG></P><P><STRONG>Location:</STRONG> </P><P>Paesanos 1604 </P><P>3622 Paesanos Parkway </P><P>San Antonio\, TX 78231</P><P><STRONG>When:</STRONG> </P><P>Thursday\, June 17\, 2010 5:00 p.m.</P><P><STRONG>Phone:</STRONG> (210) 494-0090</P><P>Join us for a special night as we embark on our new Business Alliance between United Apartment Group and HomeCorp Relocation</P><P><STRONG>5:00 - 6:00</STRONG> </P><P>Welcome to UAG Executive Members\, District Managers and Property Managers and Ribbon Cutting with the North San Antonio Chamber of Commerce. </P><P><STRONG>6:00 - 8:00</STRONG> </P><P>Property Staff's to arrive</P><P>Invocation by Father Kevin Shanahan</P><P>Buffet Dinner and Unveiling of new program</P>
LOCATION:Paesanos Restaurant
UID:e.2020.778
SEQUENCE:3
DTSTAMP:20260424T084318Z
URL:https://members.metrosa.com/events/details/2010-june-ribbon-cutting-homecorp-relocation-06-17-2010-778
END:VEVENT

END:VCALENDAR
