BEGIN:VCALENDAR
VERSION:2.0
PRODID:-//ChamberMaster//Event Calendar 2.0//EN
METHOD:PUBLISH
X-PUBLISHED-TTL:P3D
REFRESH-INTERVAL:P3D
CALSCALE:GREGORIAN
BEGIN:VEVENT
DTSTART:20090923T050000Z
DTEND:20100130T060000Z
X-MICROSOFT-CDO-ALLDAYEVENT:FALSE
SUMMARY:2010 Leadership Lab Processing Fee
DESCRIPTION:2010 Leadership Lab Processing Fee
X-ALT-DESC;FMTTYPE=text/html:2010 Leadership Lab Processing Fee
LOCATION:North Chamber
UID:e.2020.3879
SEQUENCE:3
DTSTAMP:20260424T153455Z
URL:https://members.metrosa.com/events/details/2010-leadership-lab-processing-fee-09-23-2009-3879
END:VEVENT

END:VCALENDAR
