BEGIN:VCALENDAR
VERSION:2.0
PRODID:-//ChamberMaster//Event Calendar 2.0//EN
METHOD:PUBLISH
X-PUBLISHED-TTL:P3D
REFRESH-INTERVAL:P3D
CALSCALE:GREGORIAN
BEGIN:VEVENT
DTSTART:20100309T060000Z
DTEND:20100309T060000Z
X-MICROSOFT-CDO-ALLDAYEVENT:FALSE
SUMMARY:2010 LLAB Alumni Association Event Sponsors
DESCRIPTION:2010 LLAB Alumni Association Event Sponsors
X-ALT-DESC;FMTTYPE=text/html:2010 LLAB Alumni Association Event Sponsors
LOCATION:North Chamber
UID:e.2020.3959
SEQUENCE:3
DTSTAMP:20260424T123427Z
URL:https://members.metrosa.com/events/details/2010-llab-alumni-association-event-sponsors-03-09-2010-3959
END:VEVENT

END:VCALENDAR
