BEGIN:VCALENDAR
VERSION:2.0
PRODID:-//ChamberMaster//Event Calendar 2.0//EN
METHOD:PUBLISH
X-PUBLISHED-TTL:P3D
REFRESH-INTERVAL:P3D
CALSCALE:GREGORIAN
BEGIN:VEVENT
DTSTART:20100318T160000Z
DTEND:20100318T180000Z
X-MICROSOFT-CDO-ALLDAYEVENT:FALSE
SUMMARY:2010 March Ambassador's Lunch Meeting
DESCRIPTION:DATE & TIME: THURSDAY March 18\, 2010 11:00 Networking/Registration 11:30 Serving lunch 1:00 p.m. Meeting adjourned LOCATION: BRASSERIE PAVIL 1818 N Loop 1604 West #101\, 78248Directions (210) 479-5000 and map on chamber website MENU:  CHOPPED CHICKEN SALAD: Romaine\, Sun-Dried Tomato\, Hard boiled Egg\, Red Radish\, Green Apple\, Walnuts and Blue Cheese Dressing. Dessert: Lemon Tart with Fresh Raspberries with Iced tea and coffee. PRICE: $17 All-inclusive RSVP'S: DEADLINE IS MONDAY - March 15\, 2010 - NOON WITH PAYMENT FOR YOUR TEAM'S EXTRA 300 POINTS. Registration goes off website midnight Tuesday March 16\, 2010. After deadline you may call the Chamber and register with your credit card 344-4848.
X-ALT-DESC;FMTTYPE=text/html:<P>DATE &amp\; TIME: THURSDAY March 18\, 2010 </P><P>11:00 Networking/Registration </P><P>11:30 Serving lunch </P><P>1:00 p.m. Meeting adjourned </P><P>LOCATION: BRASSERIE PAVIL 1818 N Loop 1604 West #101\, 78248</P><P>Directions (210) 479-5000 and map on chamber website </P><P><FONT size=4>MENU:</FONT>&nbsp\;<B style="mso-bidi-font-weight: normal"><SPAN style="FONT-SIZE: 12pt"><SPAN style="mso-tab-count: 1">&nbsp\;<B style="mso-bidi-font-weight: normal"><SPAN style="FONT-SIZE: 12pt">CHOPPED CHICKEN SALAD: Romaine\, Sun-Dried Tomato\, Hard boiled Egg\, Red&nbsp\;</SPAN></B><B style="mso-bidi-font-weight: normal"><SPAN style="FONT-SIZE: 12pt">Radish\, Green Apple\, </SPAN></B></SPAN></SPAN></B><B style="mso-bidi-font-weight: normal"><SPAN style="FONT-SIZE: 12pt"><SPAN style="mso-tab-count: 1"><B style="mso-bidi-font-weight: normal"><SPAN style="FONT-SIZE: 12pt">Walnuts and Blue Cheese Dressing.&nbsp\;</SPAN></B></SPAN></SPAN></B></P><P><B style="mso-bidi-font-weight: normal"><SPAN style="FONT-SIZE: 12pt"><SPAN style="mso-tab-count: 1"><B style="mso-bidi-font-weight: normal"><SPAN style="FONT-SIZE: 12pt">Dessert: Lemon Tart with Fresh Raspberries with Iced tea and coffee. </SPAN></B><SPAN style="FONT-SIZE: 12pt"><?xml:namespace prefix = o ns = "urn:schemas-microsoft-com:office:office" /><o:p></o:p></SPAN></P><P></SPAN></SPAN></B><SPAN style="FONT-SIZE: 12pt"></SPAN></P><P>PRICE: $17 All-inclusive </P><P><STRONG>RSVP'S: DEADLINE IS MONDAY - March 15\, 2010</STRONG> -<STRONG> NOON</STRONG> WITH PAYMENT FOR YOUR TEAM'S EXTRA 300 POINTS. </P><P>Registration goes off website midnight <STRONG>Tuesday March 16\, 2010.</STRONG> After deadline you may call the Chamber and register with your credit card 344-4848. </P>
LOCATION:Brasserie Pavil
UID:e.2020.742
SEQUENCE:3
DTSTAMP:20260424T123608Z
URL:https://members.metrosa.com/events/details/2010-march-ambassador-s-lunch-meeting-03-18-2010-742
END:VEVENT

END:VCALENDAR
