BEGIN:VCALENDAR
VERSION:2.0
PRODID:-//ChamberMaster//Event Calendar 2.0//EN
METHOD:PUBLISH
X-PUBLISHED-TTL:P3D
REFRESH-INTERVAL:P3D
CALSCALE:GREGORIAN
BEGIN:VEVENT
DTSTART:20100325T230000Z
DTEND:20100326T010000Z
X-MICROSOFT-CDO-ALLDAYEVENT:FALSE
SUMMARY:2010 MARCH * GRAND OPENING @ Keller Williams/Home Locators &
DESCRIPTION:KELLER WILLIAMS / HOME LOCATORS AND MANAGEMENT Thursday March 25\, 2010 1739 Babcock\, Suite 123\, 78229 RIBBON CUTTING @ 6:00 p.m. CONTACT: Hoppie Cantwell @ 655-4663 CHAMBER CONTACT: Ellen Rankin @ 384-7722 DIRECTIONS: 410 West exit Babcock. Turn right on to Babcock outside the loop. Travel past Callaghan Rd. and the building is on the right side just past Newgate Street.  Food and Refreshments will be served.
X-ALT-DESC;FMTTYPE=text/html:<DIV style="FONT-FAMILY: Arial" align=left>KELLER WILLIAMS / HOME LOCATORS AND MANAGEMENT</DIV><DIV style="FONT-FAMILY: Arial" align=left>&nbsp\;</DIV><DIV style="FONT-FAMILY: Arial" align=left>Thursday March 25\, 2010</DIV><DIV style="FONT-FAMILY: Arial" align=left>&nbsp\;</DIV><DIV style="FONT-FAMILY: Arial" align=left>1739 Babcock\, Suite 123\, 78229</DIV><DIV style="FONT-FAMILY: Arial" align=left>&nbsp\;</DIV><DIV style="FONT-FAMILY: Arial" align=left>RIBBON CUTTING @ 6:00 p.m.</DIV><DIV style="FONT-FAMILY: Arial" align=left>&nbsp\;</DIV><DIV style="FONT-FAMILY: Arial" align=left>CONTACT: Hoppie Cantwell @ 655-4663</DIV><DIV style="FONT-FAMILY: Arial" align=left>&nbsp\;</DIV><DIV style="FONT-FAMILY: Arial" align=left>CHAMBER CONTACT: Ellen Rankin @ 384-7722</DIV><DIV style="FONT-FAMILY: Arial" align=left>&nbsp\;</DIV><DIV style="FONT-FAMILY: Arial" align=left>DIRECTIONS: 410 West exit Babcock. Turn right on to Babcock outside the loop. Travel past&nbsp\;Callaghan Rd. and the building is on the right side just past Newgate Street. </DIV><DIV style="FONT-FAMILY: Arial" align=left>&nbsp\;</DIV><DIV style="FONT-FAMILY: Arial" align=left>Food and Refreshments will be served. </DIV>
LOCATION:Keller Williams/Home Locator and Management
UID:e.2020.743
SEQUENCE:3
DTSTAMP:20260424T123715Z
URL:https://members.metrosa.com/events/details/2010-march-grand-opening-keller-williams-home-locators-03-25-2010-743
END:VEVENT

END:VCALENDAR
