BEGIN:VCALENDAR
VERSION:2.0
PRODID:-//ChamberMaster//Event Calendar 2.0//EN
METHOD:PUBLISH
X-PUBLISHED-TTL:P3D
REFRESH-INTERVAL:P3D
CALSCALE:GREGORIAN
BEGIN:VEVENT
DTSTART:20100329T220000Z
DTEND:20100330T000000Z
X-MICROSOFT-CDO-ALLDAYEVENT:FALSE
SUMMARY:2010 MARCH * GRAND OPENING @ Prosperity Bank
DESCRIPTION:PROSPERITY BANK14402 US Highway 281 North Monday March 29\, 2010RIBBON CUTTING @ 5:00 p.m.CONTACT: David Moreno or Frank Casseb @ (210) 826-2161 CHAMBER CONTACT: Samantha Collins @ 384-7726DIRECTIONS: 281 North exit Bitters Rd. stay on access road travel forward through Bitters traffic light\, past Olive Garden\, Comfort Suites Hotel and the bank is next door to the new IHOP Restaurant on 281 N. www.prosperitybanktx.com Food and Refreshments will be served
X-ALT-DESC;FMTTYPE=text/html:<SPAN style="FONT-WEIGHT: normal"><STRONG><?xml:namespace prefix = o ns = "urn:schemas-microsoft-com:office:office" /><o:p><B><P>PROSPERITY BANK</P><P>14402 US Highway 281 North </P><P>Monday March 29\, 2010</P><P>RIBBON CUTTING @ 5:00 p.m.</P><P>CONTACT: David Moreno or Frank Casseb @ (210) 826-2161 </P><P>CHAMBER CONTACT: Samantha Collins @ 384-7726</P><P>DIRECTIONS: 281 North exit Bitters Rd. stay on access road travel forward through Bitters traffic light\, past Olive Garden\, Comfort Suites Hotel and the bank is next door to the new IHOP Restaurant on 281 N. </B><A href="www.prosperitybanktx.com"><B><U><FONT color=#0000ff>www.prosperitybanktx.com</B></U></FONT></A><B> </P><P>Food and Refreshments will be served</P></B></o:p></STRONG></SPAN>
LOCATION:Prosperity Bank
UID:e.2020.740
SEQUENCE:3
DTSTAMP:20260424T123541Z
URL:https://members.metrosa.com/events/details/2010-march-grand-opening-prosperity-bank-03-29-2010-740
END:VEVENT

END:VCALENDAR
