BEGIN:VCALENDAR
VERSION:2.0
PRODID:-//ChamberMaster//Event Calendar 2.0//EN
METHOD:PUBLISH
X-PUBLISHED-TTL:P3D
REFRESH-INTERVAL:P3D
CALSCALE:GREGORIAN
BEGIN:VEVENT
DTSTART:20100310T160000Z
DTEND:20100310T180000Z
X-MICROSOFT-CDO-ALLDAYEVENT:FALSE
SUMMARY:2010 MARCH * RIBBON CUTTING @ North Star Transit Center
DESCRIPTION:NORTH STAR TRANSIT CENTER7538 San Pedro/ between North Star Mall and 410 LoopWednesday March 10\, 2010RIBBON CUTTING @ 10:00 A.M.CONTACT: Kegley\, Inc. @ 349-4994 Make your RSVPs to this phone numberCHAMBER CONTACT: Samantha Collins @ 384-7726DIRECTIONS: http://www.kegley-inc.com Map at North Chamber website at the calendar of events. Refreshments will be served.
X-ALT-DESC;FMTTYPE=text/html:<P>NORTH STAR TRANSIT CENTER</P><P>7538 San Pedro/ between North Star Mall and 410 Loop</P><P>Wednesday March 10\, 2010</P><P>RIBBON CUTTING @ 10:00 A.M.</P><P>CONTACT: Kegley\, Inc. @ 349-4994 Make your RSVPs to this phone number</P><P>CHAMBER CONTACT: Samantha Collins @ 384-7726</P><P>DIRECTIONS: <A href="http://www.kegley-inc.com">http://www.kegley-inc.com</A> Map at North Chamber website at the calendar of events. </P><P>Refreshments will be served. </P>
LOCATION:North Star Transit Center
UID:e.2020.738
SEQUENCE:3
DTSTAMP:20260424T123709Z
URL:https://members.metrosa.com/events/details/2010-march-ribbon-cutting-north-star-transit-center-03-10-2010-738
END:VEVENT

END:VCALENDAR
