BEGIN:VCALENDAR
VERSION:2.0
PRODID:-//ChamberMaster//Event Calendar 2.0//EN
METHOD:PUBLISH
X-PUBLISHED-TTL:P3D
REFRESH-INTERVAL:P3D
CALSCALE:GREGORIAN
BEGIN:VEVENT
DTSTART:20100527T121500Z
DTEND:20100527T140000Z
X-MICROSOFT-CDO-ALLDAYEVENT:FALSE
SUMMARY:2010 May CIO-Improving Operational Excellence using Metrics
DESCRIPTION:May 27\, 2010 CIO Breakfast:\n7:15 am - 9:00 amNOTE:  Event not at Petroleum ClubEvent will be on Valero Energy Campus\nAddress:  One Valero Way\, San Antonio\, TX  78249
X-ALT-DESC;FMTTYPE=text/html:<P class=MsoNormal>May 27\, 2010 CIO Breakfast:<BR>7:15 am - 9:00 am</P><P class=MsoNormal><FONT color=#ff0000>NOTE:&nbsp\; Event not at Petroleum Club</FONT></P><P class=MsoNormal>Event will be on Valero Energy Campus<BR>Address:&nbsp\; One Valero Way\, San Antonio\, TX&nbsp\; 78249</P>
LOCATION:Valero Energy Corporation
UID:e.2020.759
SEQUENCE:3
DTSTAMP:20260424T100735Z
URL:https://members.metrosa.com/events/details/2010-may-cio-improving-operational-excellence-using-metrics-05-27-2010-759
END:VEVENT

END:VCALENDAR
