BEGIN:VCALENDAR
VERSION:2.0
PRODID:-//ChamberMaster//Event Calendar 2.0//EN
METHOD:PUBLISH
X-PUBLISHED-TTL:P3D
REFRESH-INTERVAL:P3D
CALSCALE:GREGORIAN
BEGIN:VEVENT
DTSTART:20110224T131500Z
DTEND:20110224T150000Z
X-MICROSOFT-CDO-ALLDAYEVENT:FALSE
SUMMARY:2011 February CIO Breakfast
DESCRIPTION:CIO Breakfast SeriesThursday\, February 24\, 2011Location: Petroleum Club7:15 am:Registration & Breakfast7:55 am:Welcome & Introductions8:00 am:Facilitating: John Vann\, ValeroTopic: Cyber Security Initiatives in San Antonio
X-ALT-DESC;FMTTYPE=text/html:<H1>CIO Breakfast Series</H1><H2>Thursday\, February 24\, 2011</H2><H2>Location: Petroleum Club</H2><P></P><P></P><P><TABLE id=agenda cellSpacing=0 cellPadding=0 border=0><TBODY><TR><TH><P>7:15 am:</P></TH><TD><P>Registration &amp\; Breakfast</P></TD></TR><TR><TH>7:55 am:</TH><TD>Welcome &amp\; Introductions</TD></TR><TR><TH>8:00 am:</TH><TD><P>Facilitating: John Vann\, Valero</P><P>Topic: Cyber Security Initiatives in San Antonio</P></TD></TR></TBODY></TABLE></P>
LOCATION:The Petroleum Club
UID:e.2020.847
SEQUENCE:3
DTSTAMP:20260423T235919Z
URL:https://members.metrosa.com/events/details/2011-february-cio-breakfast-02-24-2011-847
END:VEVENT

END:VCALENDAR
