BEGIN:VCALENDAR
VERSION:2.0
PRODID:-//ChamberMaster//Event Calendar 2.0//EN
METHOD:PUBLISH
X-PUBLISHED-TTL:P3D
REFRESH-INTERVAL:P3D
CALSCALE:GREGORIAN
BEGIN:VEVENT
DTSTART:20110224T220000Z
DTEND:20110225T000000Z
X-MICROSOFT-CDO-ALLDAYEVENT:FALSE
SUMMARY:2011 February*RIBBON CUTTING @ Skin Surgery of San Antonio
DESCRIPTION:SKIN SURGERY OF SAN ANTONIO\, PA2632 Broadway\, Suite 401N\, 78215Thursday February 24\, 2011RIBBON CUTTING @ 4:00 p.m.CONTACT: Cindy Lopez @ 995-2612CHAMBER CONTACT: Wendy Thomas @ 384-7724DIRECTIONS: Map on Chamber website at Calendar of Events  www.skinsgsa.com Food and Refreshments will be served. At Skin Surgery of San Antonio we provide comprehensive dermatology services for patients who come to us not just from San Antonio but from all over Texas\, the Southwest United States\, and a number of foreign countries. Our special emphasis is on the prevention\, detection\, and treatment of skin cancer using Mohs micrographic surgery. Dr. Vogel\, one of the top TX dermatologists\, has board certification in Dermatology\, Internal medicine\, and has completed a rigorous one-year fellowship in Mohs Surgery at Emory University.
X-ALT-DESC;FMTTYPE=text/html:<P>SKIN SURGERY OF SAN ANTONIO\, PA</P><P>2632 Broadway\, Suite 401N\, 78215</P><P>Thursday February 24\, 2011</P><P>RIBBON CUTTING @ 4:00 p.m.</P><P>CONTACT: Cindy Lopez @ 995-2612</P><P>CHAMBER CONTACT: Wendy Thomas @ 384-7724</P><P>DIRECTIONS: Map on Chamber website at Calendar of Events </P><P>&gt\;<U><FONT color=#0000ff><FONT color=#0000ff>www.skinsgsa.com</U></FONT></FONT></A> </P><P align=left>Food and Refreshments will be served. </P><P align=left><EM>At Skin Surgery of San Antonio we provide comprehensive dermatology services for patients who come to us not just from San Antonio but from all over Texas\, the Southwest United States\, and a number of foreign countries. Our special emphasis is on the prevention\, detection\, and treatment of skin cancer using Mohs micrographic surgery. Dr. Vogel\, one of the top TX dermatologists\, has board certification in Dermatology\, Internal medicine\, and has completed a rigorous one-year fellowship in Mohs Surgery at Emory University.</EM></P>
LOCATION:Skin Surgery of San Antonio
UID:e.2020.870
SEQUENCE:3
DTSTAMP:20260424T000359Z
URL:https://members.metrosa.com/events/details/2011-february-ribbon-cutting-skin-surgery-of-san-antonio-02-24-2011-870
END:VEVENT

END:VCALENDAR
