BEGIN:VCALENDAR
VERSION:2.0
PRODID:-//ChamberMaster//Event Calendar 2.0//EN
METHOD:PUBLISH
X-PUBLISHED-TTL:P3D
REFRESH-INTERVAL:P3D
CALSCALE:GREGORIAN
BEGIN:VEVENT
DTSTART:20110217T220000Z
DTEND:20110218T000000Z
X-MICROSOFT-CDO-ALLDAYEVENT:FALSE
SUMMARY:2011 February*RIBBON CUTTING @ Tree of Life Learning Center LLC
DESCRIPTION:TREE OF LIFE LEARNING CENTERThursday February 17\, 201112525 Nacogdoches Road\, 78217RIBBON CUTTING @ 4:00 P.M.CONTACT: Eunice Grant @ 646-7998CHAMBER CONTACT: Samantha Fojtik @ 344-4848DIRECTIONS: map at chamber website at Calendar of EventsFood and Beverages will be served.
X-ALT-DESC;FMTTYPE=text/html:<DIV>TREE OF LIFE LEARNING CENTER</DIV><DIV>Thursday February 17\, 2011</DIV><DIV>12525 Nacogdoches Road\, 78217</DIV><DIV>RIBBON CUTTING @ 4:00 P.M.</DIV><DIV>CONTACT: Eunice Grant @ 646-7998</DIV><DIV>CHAMBER CONTACT: Samantha Fojtik @ 344-4848</DIV><DIV>DIRECTIONS: map at chamber website at Calendar of Events</DIV><DIV>Food and Beverages will be served. </DIV>
LOCATION:Tree of Life Learning Center
UID:e.2020.868
SEQUENCE:3
DTSTAMP:20260424T000331Z
URL:https://members.metrosa.com/events/details/2011-february-ribbon-cutting-tree-of-life-learning-center-llc-02-17-2011-868
END:VEVENT

END:VCALENDAR
